BEGIN:VCALENDAR
VERSION:2.0
PRODID:-//The Kingston House - ECPv6.15.20//NONSGML v1.0//EN
CALSCALE:GREGORIAN
METHOD:PUBLISH
X-WR-CALNAME:The Kingston House
X-ORIGINAL-URL:https://thekingstonhouse.ca
X-WR-CALDESC:Events for The Kingston House
REFRESH-INTERVAL;VALUE=DURATION:PT1H
X-Robots-Tag:noindex
X-PUBLISHED-TTL:PT1H
BEGIN:VTIMEZONE
TZID:UTC
BEGIN:STANDARD
TZOFFSETFROM:+0000
TZOFFSETTO:+0000
TZNAME:UTC
DTSTART:20240101T000000
END:STANDARD
END:VTIMEZONE
BEGIN:VEVENT
DTSTART;TZID=UTC:20250617T190000
DTEND;TZID=UTC:20250617T220000
DTSTAMP:20260425T164922
CREATED:20250515T225709Z
LAST-MODIFIED:20250515T225709Z
UID:2398-1750186800-1750197600@thekingstonhouse.ca
SUMMARY:Douglas Cameron - guitarist\, singer/songwriter
DESCRIPTION:Guitarist\, singer/songwriter and multi-instrumentalist Douglas John Cameron performing Country and Roots\, Blues and R & B. He is a two time Juno nominee and has been performing in Canada for five decades with many TV and recording credits as a composer and performer. Some of those credits include Doc (Showtime/Pax TV)\, Designer Guys\, Holmes on Homes (HG TV)\, Heart of a Poet (Bravo/Book TV)\, The National\, CBC Sunday(CBC/Newsworld)\, Dear America (HBO)\, Ants In Your Pants\, Big and Small\, (Treehouse TV)\, Nanalan\, What’s Your News (CBC). \nDouglas is now a member of Whiskey Jack and In partnership with Duncan Fremlin\, performs in Whiskey Jack Presents Stories & Songs of Stompin’ Tom. He recorded and produced the new Whiskey Jack album Whiskey Jack 10 – Do It Again! Douglas also plays drums in Three Chord Johnny\, Toronto’s most literary R and B collective.
URL:https://thekingstonhouse.ca/event/douglas-cameron-guitarist-singer-songwriter/
CATEGORIES:Music
ATTACH;FMTTYPE=image/jpeg:https://thekingstonhouse.ca/wp-content/uploads/2025/01/DJCHead1_sml.jpg
END:VEVENT
BEGIN:VEVENT
DTSTART;TZID=UTC:20250615T130000
DTEND;TZID=UTC:20250615T160000
DTSTAMP:20260425T164922
CREATED:20250522T001406Z
LAST-MODIFIED:20250522T001406Z
UID:2415-1749992400-1750003200@thekingstonhouse.ca
SUMMARY:Girl’s Night Out vocal jazz jam
DESCRIPTION:Come join us at Toronto’s longest running vocal jam\, Lisa Particelli’s GNO Vocalist-Friendly Jazz Jam!\nHosting on behalf of Lisa will be Ilana Waldston and Sam Broverman\, with Peter Hill on keys and Jordan O’Connor on bass.\nSing a tune with our terrific band if you like! Either bring a couple of lead sheets\, or choose a jazz standard and the band will help you find your key. Singers at all levels are welcome. You’ll be cheered on by our wonderful and supportive GNO regulars.\nDon’t sing? Come and enjoy an exciting variety of singers in a fun\, convivial atmosphere; it’s always a great hang.\nPWYC $10 to $20 suggested\, cash preferred.
URL:https://thekingstonhouse.ca/event/girls-night-out-vocal-jazz-jam-5/
CATEGORIES:Jazz
END:VEVENT
BEGIN:VEVENT
DTSTART;TZID=UTC:20250612T193000
DTEND;TZID=UTC:20250612T220000
DTSTAMP:20260425T164922
CREATED:20250515T230444Z
LAST-MODIFIED:20250515T230444Z
UID:2403-1749756600-1749765600@thekingstonhouse.ca
SUMMARY:Thursday Jazz - Julie Michels
DESCRIPTION:Julie Michels – jazz favorites and vocal surprises!
URL:https://thekingstonhouse.ca/event/thursday-jazz-julie-michels-3/
CATEGORIES:Jazz
ATTACH;FMTTYPE=image/jpeg:https://thekingstonhouse.ca/wp-content/uploads/2024/12/Julie_Wings.jpg
END:VEVENT
BEGIN:VEVENT
DTSTART;TZID=UTC:20250605T193000
DTEND;TZID=UTC:20250605T220000
DTSTAMP:20260425T164922
CREATED:20250515T230054Z
LAST-MODIFIED:20250515T230054Z
UID:2400-1749151800-1749160800@thekingstonhouse.ca
SUMMARY:Thursday Jazz - Ted Quinlan and Steven Cole
DESCRIPTION:Guitarists Ted Quinlan and Steven Cole play as a duo. Jazz standards\, not so standards\, originals and surprises!
URL:https://thekingstonhouse.ca/event/thursday-jazz-ted-quinlan-and-steven-cole/
CATEGORIES:Jazz
END:VEVENT
BEGIN:VEVENT
DTSTART;TZID=UTC:20250603T190000
DTEND;TZID=UTC:20250603T220000
DTSTAMP:20260425T164922
CREATED:20250521T212105Z
LAST-MODIFIED:20250521T212105Z
UID:2406-1748977200-1748988000@thekingstonhouse.ca
SUMMARY:Jimmy Helverson singer/guitarist
DESCRIPTION:Guitarist and singer Jimmy Helverson performs popular music including the blues\, rock\, soul\, classic R & B\, and country.\nJimmy is originally from Savannah\, Georgia where for more than a decade he was part of a popular blues band that toured in the United States and played on various blues cruises. He has had the opportunity to open for Buddy Guy\, Johnny Winter\, J. Geils and others. Helverson came to Canada in 1997 and has been part of the Toronto music scene as a singer\, guitar player and bass player.
URL:https://thekingstonhouse.ca/event/jimmy-helverson-singer-guitarist/
CATEGORIES:Music
ATTACH;FMTTYPE=image/jpeg:https://thekingstonhouse.ca/wp-content/uploads/2025/05/Jimmy_Helverson_June-3_sml.jpg
END:VEVENT
BEGIN:VEVENT
DTSTART;TZID=UTC:20250529T193000
DTEND;TZID=UTC:20250529T220000
DTSTAMP:20260425T164922
CREATED:20250503T150256Z
LAST-MODIFIED:20250503T150256Z
UID:2385-1748547000-1748556000@thekingstonhouse.ca
SUMMARY:Thursday Jazz - Samantha Clayton
DESCRIPTION:Samantha Clayton sings from Mitchell to Monk\, jazz classics and songs from the Great American songbook. With Steven Cole\, guitar and Peter Telford\, bass.
URL:https://thekingstonhouse.ca/event/thursday-jazz-samantha-clayton-2/
ATTACH;FMTTYPE=image/jpeg:https://thekingstonhouse.ca/wp-content/uploads/2024/10/KH_trio_sam_event.jpg
END:VEVENT
BEGIN:VEVENT
DTSTART;TZID=UTC:20250527T190000
DTEND;TZID=UTC:20250527T220000
DTSTAMP:20260425T164922
CREATED:20250505T190700Z
LAST-MODIFIED:20250521T214935Z
UID:2388-1748372400-1748383200@thekingstonhouse.ca
SUMMARY:Arlene Paculan - pianist and singer/songwriter
DESCRIPTION:Arlene Paculan\, piano-playing singer-songwriter sings classics! Songs you forgot about and original tunes\, very easy listening.
URL:https://thekingstonhouse.ca/event/arlene-paculan-pianist-and-singer-songwriter-2/
CATEGORIES:Music
ATTACH;FMTTYPE=image/jpeg:https://thekingstonhouse.ca/wp-content/uploads/2025/05/Arlene_KH_5-27-25.jpg
END:VEVENT
BEGIN:VEVENT
DTSTART;TZID=UTC:20250522T193000
DTEND;TZID=UTC:20250522T220000
DTSTAMP:20260425T164922
CREATED:20250430T175313Z
LAST-MODIFIED:20250430T175313Z
UID:2382-1747942200-1747951200@thekingstonhouse.ca
SUMMARY:Thursday Jazz - Suzi and Doug
DESCRIPTION:Suzi Wessen and Doug Balfour perform a mix of jazz\, blues\, R&B and cabaret. Vocalist Suzi with Doug on keyboard and vocals.
URL:https://thekingstonhouse.ca/event/thursday-jazz-suzi-and-doug/
CATEGORIES:Jazz
ATTACH;FMTTYPE=image/jpeg:https://thekingstonhouse.ca/wp-content/uploads/2025/04/Suzi_Doug.jpg
END:VEVENT
BEGIN:VEVENT
DTSTART;TZID=UTC:20250521T180000
DTEND;TZID=UTC:20250521T220000
DTSTAMP:20260425T164922
CREATED:20250515T225049Z
LAST-MODIFIED:20250515T225049Z
UID:2392-1747850400-1747864800@thekingstonhouse.ca
SUMMARY:Open Mic Night
DESCRIPTION:Open Mic Night at The Kingston House. Hosted by Fred Boutin and Lisa Spacepark. Come and perform your singing and playing skills!
URL:https://thekingstonhouse.ca/event/open-mic-night/
CATEGORIES:Music
ATTACH;FMTTYPE=image/jpeg:https://thekingstonhouse.ca/wp-content/uploads/2025/05/KH_open_mic.jpg
END:VEVENT
BEGIN:VEVENT
DTSTART;TZID=UTC:20250520T190000
DTEND;TZID=UTC:20250520T220000
DTSTAMP:20260425T164922
CREATED:20250515T225415Z
LAST-MODIFIED:20250515T225415Z
UID:2395-1747767600-1747778400@thekingstonhouse.ca
SUMMARY:Monet and Christian
DESCRIPTION:Monet and Christian\, folk and pop music duo on land and sea.
URL:https://thekingstonhouse.ca/event/monet-and-christian-2/
CATEGORIES:Music
ATTACH;FMTTYPE=image/jpeg:https://thekingstonhouse.ca/wp-content/uploads/2025/04/MonetChristian_post.jpg
END:VEVENT
BEGIN:VEVENT
DTSTART;TZID=UTC:20250518T130000
DTEND;TZID=UTC:20250518T160000
DTSTAMP:20260425T164922
CREATED:20250329T212011Z
LAST-MODIFIED:20250329T212011Z
UID:2359-1747573200-1747584000@thekingstonhouse.ca
SUMMARY:Girl’s Night Out vocal jazz jam
DESCRIPTION:Come join us at Toronto’s longest running vocal jam\, Lisa Particelli’s GNO Vocalist-Friendly Jazz Jam!\nHosting on behalf of Lisa will be Ilana Waldston and Sam Broverman\, with Peter Hill on keys and Jordan O’Connor on bass.\nSing a tune with our terrific band if you like! Either bring a couple of lead sheets\, or choose a jazz standard and the band will help you find your key. Singers at all levels are welcome. You’ll be cheered on by our wonderful and supportive GNO regulars.\nDon’t sing? Come and enjoy an exciting variety of singers in a fun\, convivial atmosphere; it’s always a great hang.\nPWYC $10 to $20 suggested\, cash preferred.
URL:https://thekingstonhouse.ca/event/girls-night-out-vocal-jazz-jam-4/
CATEGORIES:Music
ATTACH;FMTTYPE=image/jpeg:https://thekingstonhouse.ca/wp-content/uploads/2025/03/KH_GNO_May-18-25.jpg
END:VEVENT
BEGIN:VEVENT
DTSTART;TZID=UTC:20250515T193000
DTEND;TZID=UTC:20250515T220000
DTSTAMP:20260425T164922
CREATED:20250430T171245Z
LAST-MODIFIED:20250513T182316Z
UID:2380-1747337400-1747346400@thekingstonhouse.ca
SUMMARY:Thursday Jazz - Julie Michels
DESCRIPTION:Julie Michels – jazz favorites and vocal surprises! With guitarist Kevin Barrett
URL:https://thekingstonhouse.ca/event/thursday-jazz-julie-michels-2/
CATEGORIES:Jazz
ATTACH;FMTTYPE=image/jpeg:https://thekingstonhouse.ca/wp-content/uploads/2025/04/Julie_Kevin_duo.jpg
END:VEVENT
BEGIN:VEVENT
DTSTART;TZID=UTC:20250508T193000
DTEND;TZID=UTC:20250508T220000
DTSTAMP:20260425T164922
CREATED:20250430T170544Z
LAST-MODIFIED:20250503T150150Z
UID:2377-1746732600-1746741600@thekingstonhouse.ca
SUMMARY:Thursday Jazz - rescheduled to May 29
DESCRIPTION:Samantha Clayton trio has been rescheduled to May 29
URL:https://thekingstonhouse.ca/event/thursday-jazz-samantha-clayton/
CATEGORIES:Jazz
END:VEVENT
BEGIN:VEVENT
DTSTART;TZID=UTC:20250501T193000
DTEND;TZID=UTC:20250501T220000
DTSTAMP:20260425T164922
CREATED:20250423T175324Z
LAST-MODIFIED:20250430T165350Z
UID:2371-1746127800-1746136800@thekingstonhouse.ca
SUMMARY:Four.30 Quartet\, birthday celebration bash
DESCRIPTION:Four.30 jazz quartet with Steven Cole\, Jeff King\, Peter Telford and Ben Ball celebrating three of our birthdays. Come have some cake! PWYC.
URL:https://thekingstonhouse.ca/event/four-30-quartet-birthday-celebration-bash/
CATEGORIES:Jazz
END:VEVENT
BEGIN:VEVENT
DTSTART;TZID=UTC:20250429T190000
DTEND;TZID=UTC:20250429T220000
DTSTAMP:20260425T164922
CREATED:20250319T154114Z
LAST-MODIFIED:20250319T154114Z
UID:2336-1745953200-1745964000@thekingstonhouse.ca
SUMMARY:Douglas John Cameron - guitarist\, singer/songwriter
DESCRIPTION:Guitarist\, singer/songwriter and multi-instrumentalist Douglas John Cameron performing Country and Roots\, Blues and R & B. He is a two time Juno nominee and has been performing in Canada for five decades with many TV and recording credits as a composer and performer. Some of those credits include Doc (Showtime/Pax TV)\, Designer Guys\, Holmes on Homes (HG TV)\, Heart of a Poet (Bravo/Book TV)\, The National\, CBC Sunday(CBC/Newsworld)\, Dear America (HBO)\, Ants In Your Pants\, Big and Small\, (Treehouse TV)\, Nanalan\, What’s Your News (CBC). \nDouglas is now a member of Whiskey Jack and In partnership with Duncan Fremlin\, performs in Whiskey Jack Presents Stories & Songs of Stompin’ Tom. He recorded and produced the new Whiskey Jack album Whiskey Jack 10 – Do It Again! Douglas also plays drums in Three Chord Johnny\, Toronto’s most literary R and B collective.
URL:https://thekingstonhouse.ca/event/douglas-john-cameron-guitarist-singer-songwriter-3/
CATEGORIES:Music
ATTACH;FMTTYPE=image/jpeg:https://thekingstonhouse.ca/wp-content/uploads/2025/01/DJCHead1_sml.jpg
END:VEVENT
BEGIN:VEVENT
DTSTART;TZID=UTC:20250424T193000
DTEND;TZID=UTC:20250424T220000
DTSTAMP:20260425T164922
CREATED:20250329T002753Z
LAST-MODIFIED:20250329T204247Z
UID:2347-1745523000-1745532000@thekingstonhouse.ca
SUMMARY:Thursday Jazz - Colleen Allen
DESCRIPTION:Saxophonist Colleen Allen with Steven Cole guitar\, Peter Telford bass\, Greg Pilo drums
URL:https://thekingstonhouse.ca/event/colleen-allen-quartet/
CATEGORIES:Jazz
END:VEVENT
BEGIN:VEVENT
DTSTART;TZID=UTC:20250422T190000
DTEND;TZID=UTC:20250422T220000
DTSTAMP:20260425T164922
CREATED:20250419T045453Z
LAST-MODIFIED:20250419T045453Z
UID:2368-1745348400-1745359200@thekingstonhouse.ca
SUMMARY:Monet and Christian
DESCRIPTION:Monet and Christian\, folk duo on land and sea.
URL:https://thekingstonhouse.ca/event/monet-and-christian/
CATEGORIES:Music
ATTACH;FMTTYPE=image/jpeg:https://thekingstonhouse.ca/wp-content/uploads/2025/04/MonetChristian_post.jpg
END:VEVENT
BEGIN:VEVENT
DTSTART;TZID=UTC:20250417T193000
DTEND;TZID=UTC:20250417T220000
DTSTAMP:20260425T164922
CREATED:20250329T000450Z
LAST-MODIFIED:20250329T211413Z
UID:2342-1744918200-1744927200@thekingstonhouse.ca
SUMMARY:Thursday Jazz - Harley Card trio
DESCRIPTION:Guitarist Harley Card with Rebecca Hennessy on trumpet and Bret Higgens on bass
URL:https://thekingstonhouse.ca/event/harley-card-trio/
CATEGORIES:Jazz
ATTACH;FMTTYPE=image/jpeg:https://thekingstonhouse.ca/wp-content/uploads/2025/03/KH_Harley_Card_trio.jpg
END:VEVENT
BEGIN:VEVENT
DTSTART;TZID=UTC:20250415T190000
DTEND;TZID=UTC:20250415T220000
DTSTAMP:20260425T164922
CREATED:20250405T002909Z
LAST-MODIFIED:20250408T181233Z
UID:2362-1744743600-1744754400@thekingstonhouse.ca
SUMMARY:Arlene Paculan\, pianist and singer/songwriter
DESCRIPTION:Arlene Paculan piano-playing singer-songwriter sings classics\, songs you forgot about and original tunes\, very easy listening.
URL:https://thekingstonhouse.ca/event/arlene-paculan-pianist-and-singer-songwriter/
CATEGORIES:Music
ATTACH;FMTTYPE=image/jpeg:https://thekingstonhouse.ca/wp-content/uploads/2025/04/ArlenePaculanSmallFile.jpg
END:VEVENT
BEGIN:VEVENT
DTSTART;TZID=UTC:20250403T193000
DTEND;TZID=UTC:20250403T220000
DTSTAMP:20260425T164922
CREATED:20250329T000222Z
LAST-MODIFIED:20250329T204333Z
UID:2339-1743708600-1743717600@thekingstonhouse.ca
SUMMARY:Thursday Jazz - Samantha Clayton
DESCRIPTION:Samantha Clayton – songs from Mitchell to Monk. With Steven Cole on guitar and Peter Telford on bass.
URL:https://thekingstonhouse.ca/event/samantha-clayton-trio/
CATEGORIES:Jazz
ATTACH;FMTTYPE=image/jpeg:https://thekingstonhouse.ca/wp-content/uploads/2024/10/KH_trio_sam_event.jpg
END:VEVENT
BEGIN:VEVENT
DTSTART;TZID=UTC:20250327T193000
DTEND;TZID=UTC:20250327T220000
DTSTAMP:20260425T164922
CREATED:20250306T023602Z
LAST-MODIFIED:20250329T205012Z
UID:2322-1743103800-1743112800@thekingstonhouse.ca
SUMMARY:Thursday Jazz - Steven Cole trio
DESCRIPTION:Steven Cole trio with Peter Telford on bass and Ben Ball on drums playing music by great jazz artists\, bop\, post bop\, groove\, and originals.
URL:https://thekingstonhouse.ca/event/carin-redman-trio/
CATEGORIES:Jazz
ATTACH;FMTTYPE=image/jpeg:https://thekingstonhouse.ca/wp-content/uploads/2025/03/KH_scole_trio_post.jpg
END:VEVENT
BEGIN:VEVENT
DTSTART;TZID=UTC:20250325T190000
DTEND;TZID=UTC:20250325T220000
DTSTAMP:20260425T164922
CREATED:20250319T152959Z
LAST-MODIFIED:20250319T152959Z
UID:2333-1742929200-1742940000@thekingstonhouse.ca
SUMMARY:Douglas John Cameron - guitarist\, singer/songwriter
DESCRIPTION:Guitarist\, singer/songwriter and multi-instrumentalist Douglas John Cameron performing Country and Roots\, Blues and R & B. He is a two time Juno nominee and has been performing in Canada for five decades with many TV and recording credits as a composer and performer. Some of those credits include Doc (Showtime/Pax TV)\, Designer Guys\, Holmes on Homes (HG TV)\, Heart of a Poet (Bravo/Book TV)\, The National\, CBC Sunday(CBC/Newsworld)\, Dear America (HBO)\, Ants In Your Pants\, Big and Small\, (Treehouse TV)\, Nanalan\, What’s Your News (CBC). \nDouglas is now a member of Whiskey Jack and In partnership with Duncan Fremlin\, performs in Whiskey Jack Presents Stories & Songs of Stompin’ Tom. He recorded and produced the new Whiskey Jack album Whiskey Jack 10 – Do It Again! Douglas also plays drums in Three Chord Johnny\, Toronto’s most literary R and B collective.
URL:https://thekingstonhouse.ca/event/douglas-john-cameron-guitarist-singer-songwriter-2/
CATEGORIES:Music
ATTACH;FMTTYPE=image/jpeg:https://thekingstonhouse.ca/wp-content/uploads/2025/01/DJCHead1_sml.jpg
END:VEVENT
BEGIN:VEVENT
DTSTART;TZID=UTC:20250320T193000
DTEND;TZID=UTC:20250320T220000
DTSTAMP:20260425T164922
CREATED:20250306T023304Z
LAST-MODIFIED:20250329T204501Z
UID:2318-1742499000-1742508000@thekingstonhouse.ca
SUMMARY:Thursday Jazz - Larisa Renee
DESCRIPTION:Larisa Renee singing songs of passion\, love\, loss and jealousy!\nWith Steven Cole on guitar and Peter Telford bass.
URL:https://thekingstonhouse.ca/event/larisa-renee-trio/
CATEGORIES:Jazz
ATTACH;FMTTYPE=image/jpeg:https://thekingstonhouse.ca/wp-content/uploads/2025/03/Trio_banner_larisa_social.jpg
END:VEVENT
BEGIN:VEVENT
DTSTART;TZID=UTC:20250317T180000
DTEND;TZID=UTC:20250317T210000
DTSTAMP:20260425T164922
CREATED:20250313T192023Z
LAST-MODIFIED:20250313T193147Z
UID:2327-1742234400-1742245200@thekingstonhouse.ca
SUMMARY:St. Patrick's Day with Joyce's Folly
DESCRIPTION:Douglas John Cameron and Sean O’Connor play Irish favorites on guitar and penny whistle. Come join them with a glass of Stout!
URL:https://thekingstonhouse.ca/event/st-patricks-day-with-joyces-folly/
CATEGORIES:Music
ATTACH;FMTTYPE=image/png:https://thekingstonhouse.ca/wp-content/uploads/2025/03/Joyces_folly.png
END:VEVENT
BEGIN:VEVENT
DTSTART;TZID=UTC:20250316T123000
DTEND;TZID=UTC:20250316T163000
DTSTAMP:20260425T164922
CREATED:20241205T220110Z
LAST-MODIFIED:20250306T022632Z
UID:2185-1742128200-1742142600@thekingstonhouse.ca
SUMMARY:Girl’s Night Out vocal jazz jam
DESCRIPTION:Come join us at Toronto’s longest running vocal jam\, Lisa Particelli’s GNO Vocalist-Friendly 20th Anniversary Jazz Jam! Hosting on behalf of Lisa will be Ilana Waldston and Sam Broverman\, with Peter Hill on keys and Jordan O’Connor on bass.\nSing a tune with our terrific band if you like! Either bring a couple of lead sheets\, or choose a jazz standard and the band will help you find your key. Singers at all levels are welcome. You’ll be cheered on by our wonderful and supportive GNO regulars.\nDon’t sing? Come and enjoy an exciting variety of singers in a fun\, convivial atmosphere; it’s always a great hang.\nPWYC $10 to $20 suggested\, cash preferred.
URL:https://thekingstonhouse.ca/event/girls-night-out-vocal-jazz-jam-3/
CATEGORIES:Music
ATTACH;FMTTYPE=image/jpeg:https://thekingstonhouse.ca/wp-content/uploads/2024/12/20th-ann.-KH-MAR-16-25-gno-poster__-Kingston-House.jpg
END:VEVENT
BEGIN:VEVENT
DTSTART;TZID=UTC:20250313T193000
DTEND;TZID=UTC:20250313T220000
DTSTAMP:20260425T164922
CREATED:20250203T194531Z
LAST-MODIFIED:20250310T054120Z
UID:2286-1741894200-1741903200@thekingstonhouse.ca
SUMMARY:Jazz Thursday - Julie Michels
DESCRIPTION:Julie Michels – jazz favorites and vocal surprises! With guitarist Kevin Barrett
URL:https://thekingstonhouse.ca/event/jazz-thursday-julie-michels-3/
CATEGORIES:Jazz
ATTACH;FMTTYPE=image/jpeg:https://thekingstonhouse.ca/wp-content/uploads/2025/02/Julie_duo.jpg
END:VEVENT
BEGIN:VEVENT
DTSTART;TZID=UTC:20250306T193000
DTEND;TZID=UTC:20250306T220000
DTSTAMP:20260425T164922
CREATED:20250218T151548Z
LAST-MODIFIED:20250329T204354Z
UID:2313-1741289400-1741298400@thekingstonhouse.ca
SUMMARY:Thursday Jazz - Steven Cole trio with Brodie West
DESCRIPTION:Brodie West will be joining us on alto sax\, playing a selection of jazz standards\, bop\, and other compositions by great jazz artists. Steven Cole on guitar with Peter Telford on bass.
URL:https://thekingstonhouse.ca/event/steven-cole-trio-with-brodie-west/
CATEGORIES:Jazz
ATTACH;FMTTYPE=image/jpeg:https://thekingstonhouse.ca/wp-content/uploads/2024/12/KH_trio_400.jpg
END:VEVENT
BEGIN:VEVENT
DTSTART;TZID=UTC:20250227T193000
DTEND;TZID=UTC:20250227T220000
DTSTAMP:20260425T164922
CREATED:20250203T193534Z
LAST-MODIFIED:20250329T204407Z
UID:2284-1740684600-1740693600@thekingstonhouse.ca
SUMMARY:Thursday Jazz - Steven Cole group with Pat LaBarbera
DESCRIPTION:Steven Cole group featuring special guest Pat LaBarbera on tenor sax\, with Peter Telford on bass and Ben Ball on drums.  Playing compositions by Pat\, and other great jazz artists.
URL:https://thekingstonhouse.ca/event/jazz-thursday-steven-cole-trio-3/
CATEGORIES:Jazz
ATTACH;FMTTYPE=image/jpeg:https://thekingstonhouse.ca/wp-content/uploads/2025/02/SC_group_pat_post.jpg
END:VEVENT
BEGIN:VEVENT
DTSTART;TZID=UTC:20250220T193000
DTEND;TZID=UTC:20250220T220000
DTSTAMP:20260425T164922
CREATED:20250104T061800Z
LAST-MODIFIED:20250104T061800Z
UID:2232-1740079800-1740088800@thekingstonhouse.ca
SUMMARY:Jazz Thursday - Samantha Clayton trio
DESCRIPTION:Singer Samantha Clayton trio with Steven Cole on guitar and Peter Telford on bass
URL:https://thekingstonhouse.ca/event/jazz-thursday-samantha-clayton-trio/
CATEGORIES:Jazz
ATTACH;FMTTYPE=image/jpeg:https://thekingstonhouse.ca/wp-content/uploads/2024/10/KH_trio_sam_event.jpg
END:VEVENT
BEGIN:VEVENT
DTSTART;TZID=UTC:20250218T190000
DTEND;TZID=UTC:20250218T220000
DTSTAMP:20260425T164922
CREATED:20250218T151023Z
LAST-MODIFIED:20250218T151023Z
UID:2311-1739905200-1739916000@thekingstonhouse.ca
SUMMARY:Douglas John Cameron - guitarist\, singer/songwriter
DESCRIPTION:Guitarist\, singer/songwriter and multi-instrumentalist Douglas John Cameron performing Country and Roots\, Blues and R & B. He is a two time Juno nominee and has been performing in Canada for five decades with many TV and recording credits as a composer and performer. Some of those credits include Doc (Showtime/Pax TV)\, Designer Guys\, Holmes on Homes (HG TV)\, Heart of a Poet (Bravo/Book TV)\, The National\, CBC Sunday(CBC/Newsworld)\, Dear America (HBO)\, Ants In Your Pants\, Big and Small\, (Treehouse TV)\, Nanalan\, What’s Your News (CBC). \nDouglas is now a member of Whiskey Jack and In partnership with Duncan Fremlin\, performs in Whiskey Jack Presents Stories & Songs of Stompin’ Tom. He recorded and produced the new Whiskey Jack album Whiskey Jack 10 – Do It Again! Douglas also plays drums in Three Chord Johnny\, Toronto’s most literary R and B collective.
URL:https://thekingstonhouse.ca/event/douglas-john-cameron-guitarist-singer-songwriter/
ATTACH;FMTTYPE=image/jpeg:https://thekingstonhouse.ca/wp-content/uploads/2025/01/DJCHead1_sml.jpg
END:VEVENT
END:VCALENDAR