BEGIN:VCALENDAR
VERSION:2.0
PRODID:-//The Kingston House - ECPv6.15.20//NONSGML v1.0//EN
CALSCALE:GREGORIAN
METHOD:PUBLISH
X-WR-CALNAME:The Kingston House
X-ORIGINAL-URL:https://thekingstonhouse.ca
X-WR-CALDESC:Events for The Kingston House
REFRESH-INTERVAL;VALUE=DURATION:PT1H
X-Robots-Tag:noindex
X-PUBLISHED-TTL:PT1H
BEGIN:VTIMEZONE
TZID:UTC
BEGIN:STANDARD
TZOFFSETFROM:+0000
TZOFFSETTO:+0000
TZNAME:UTC
DTSTART:20240101T000000
END:STANDARD
END:VTIMEZONE
BEGIN:VEVENT
DTSTART;TZID=UTC:20250930T190000
DTEND;TZID=UTC:20250930T213000
DTSTAMP:20260425T140910
CREATED:20250807T023702Z
LAST-MODIFIED:20250807T023702Z
UID:2478-1759258800-1759267800@thekingstonhouse.ca
SUMMARY:Jimmy Helverson
DESCRIPTION:Guitarist and singer Jimmy Helverson performs popular music including the blues\, rock\, soul\, classic R & B\, and country. Upstairs dining room\, No cover
URL:https://thekingstonhouse.ca/event/jimmy-helverson-11/
CATEGORIES:Music
ATTACH;FMTTYPE=image/jpeg:https://thekingstonhouse.ca/wp-content/uploads/2025/08/Jimmy_Helverson_blank.jpg
END:VEVENT
BEGIN:VEVENT
DTSTART;TZID=UTC:20250925T193000
DTEND;TZID=UTC:20250925T220000
DTSTAMP:20260425T140910
CREATED:20250923T055003Z
LAST-MODIFIED:20250923T173345Z
UID:2495-1758828600-1758837600@thekingstonhouse.ca
SUMMARY:Thursday jazz - Steven Cole trio
DESCRIPTION:Guitarist Steven Cole with Peter Telford and Ben Ball playing jazz standards\, original compositions\, and music by great jazz artists. Main dining room. No cover.
URL:https://thekingstonhouse.ca/event/thursday-jazz-steven-cole-group/
CATEGORIES:Jazz
ATTACH;FMTTYPE=image/jpeg:https://thekingstonhouse.ca/wp-content/uploads/2025/09/KH_scole_trio_post.jpg
END:VEVENT
BEGIN:VEVENT
DTSTART;TZID=UTC:20250918T193000
DTEND;TZID=UTC:20250918T220000
DTSTAMP:20260425T140910
CREATED:20250902T041603Z
LAST-MODIFIED:20250929T224217Z
UID:2490-1758223800-1758232800@thekingstonhouse.ca
SUMMARY:Thursday jazz - Julie Michels
DESCRIPTION:Julie Michels sings jazz favorites and vocal surprises! Downstairs Event room.
URL:https://thekingstonhouse.ca/event/thursday-jazz-julie-michels-6/
CATEGORIES:Jazz
ATTACH;FMTTYPE=image/jpeg:https://thekingstonhouse.ca/wp-content/uploads/2024/12/Julie_Wings.jpg
END:VEVENT
BEGIN:VEVENT
DTSTART;TZID=UTC:20250916T190000
DTEND;TZID=UTC:20250916T213000
DTSTAMP:20260425T140910
CREATED:20250923T055921Z
LAST-MODIFIED:20250923T055921Z
UID:2497-1758049200-1758058200@thekingstonhouse.ca
SUMMARY:Jimmy Helverson
DESCRIPTION:Guitarist and singer Jimmy Helverson performs popular music including the blues\, rock\, soul\, classic R & B\, and country. Upstairs dining room\, No cover
URL:https://thekingstonhouse.ca/event/jimmy-helverson-12/
CATEGORIES:Music
ATTACH;FMTTYPE=image/jpeg:https://thekingstonhouse.ca/wp-content/uploads/2025/08/Jimmy_Helverson_blank.jpg
END:VEVENT
BEGIN:VEVENT
DTSTART;TZID=UTC:20250911T193000
DTEND;TZID=UTC:20250911T220000
DTSTAMP:20260425T140910
CREATED:20250902T040942Z
LAST-MODIFIED:20250902T040942Z
UID:2487-1757619000-1757628000@thekingstonhouse.ca
SUMMARY:Thursday jazz - James Brown and Clark Johnston
DESCRIPTION:James Brown on guitar with Clark Johnston on bass playing jazz standards. Main dining room. No cover.
URL:https://thekingstonhouse.ca/event/thursday-jazz-james-brown-and-clark-johnston/
CATEGORIES:Jazz
ATTACH;FMTTYPE=image/jpeg:https://thekingstonhouse.ca/wp-content/uploads/2025/09/James_brown_duo.jpg
END:VEVENT
BEGIN:VEVENT
DTSTART;TZID=UTC:20250909T190000
DTEND;TZID=UTC:20250909T213000
DTSTAMP:20260425T140910
CREATED:20250902T035108Z
LAST-MODIFIED:20250902T035209Z
UID:2483-1757444400-1757453400@thekingstonhouse.ca
SUMMARY:Arlene Paculan
DESCRIPTION:Arlene Paculan\, piano-playing singer-songwriter sings classics! Songs you forgot about and original tunes\, very easy listening.
URL:https://thekingstonhouse.ca/event/arlene-paculan-2/
CATEGORIES:Music
ATTACH;FMTTYPE=image/jpeg:https://thekingstonhouse.ca/wp-content/uploads/2025/04/ArlenePaculanSmallFile.jpg
END:VEVENT
BEGIN:VEVENT
DTSTART;TZID=UTC:20250904T193000
DTEND;TZID=UTC:20250904T220000
DTSTAMP:20260425T140910
CREATED:20250902T040221Z
LAST-MODIFIED:20250902T040221Z
UID:2485-1757014200-1757023200@thekingstonhouse.ca
SUMMARY:Thursday jazz - Steven Cole and Peter Telford
DESCRIPTION:Steven Cole on guitar with Peter Telford on bass play jazz standards and compositions by great jazz artists. Main dining room. No cover.
URL:https://thekingstonhouse.ca/event/thursday-jazz-steven-cole-and-peter-telford/
CATEGORIES:Jazz
ATTACH;FMTTYPE=image/jpeg:https://thekingstonhouse.ca/wp-content/uploads/2024/11/Steven_Cole_Peter_Telford_mailer.jpg
END:VEVENT
BEGIN:VEVENT
DTSTART;TZID=UTC:20250828T193000
DTEND;TZID=UTC:20250828T220000
DTSTAMP:20260425T140910
CREATED:20250807T022824Z
LAST-MODIFIED:20250825T051134Z
UID:2476-1756409400-1756418400@thekingstonhouse.ca
SUMMARY:Thursday Jazz - Andrew Scott trio
DESCRIPTION:Guitarist Andrew Scott plays jazz standards and bebop with his trio\, upstairs dining room\, No cover
URL:https://thekingstonhouse.ca/event/thursday-jazz-andrew-scott-trio-2/
CATEGORIES:Jazz
ATTACH;FMTTYPE=image/jpeg:https://thekingstonhouse.ca/wp-content/uploads/2024/12/andrew_scott.jpg
END:VEVENT
BEGIN:VEVENT
DTSTART;TZID=UTC:20250826T190000
DTEND;TZID=UTC:20250826T213000
DTSTAMP:20260425T140910
CREATED:20250807T022059Z
LAST-MODIFIED:20250807T022059Z
UID:2472-1756234800-1756243800@thekingstonhouse.ca
SUMMARY:Jimmy Helverson
DESCRIPTION:Guitarist and singer Jimmy Helverson performs popular music including the blues\, rock\, soul\, classic R & B\, and country. Upstairs dining room\, No cover
URL:https://thekingstonhouse.ca/event/jimmy-helverson-10/
CATEGORIES:Music
ATTACH;FMTTYPE=image/jpeg:https://thekingstonhouse.ca/wp-content/uploads/2025/08/Jimmy_Helverson_blank.jpg
END:VEVENT
BEGIN:VEVENT
DTSTART;TZID=UTC:20250821T193000
DTEND;TZID=UTC:20250821T220000
DTSTAMP:20260425T140910
CREATED:20250807T022531Z
LAST-MODIFIED:20250807T022531Z
UID:2474-1755804600-1755813600@thekingstonhouse.ca
SUMMARY:Thursday Jazz - Steve Farrugia trio
DESCRIPTION:Drummer Steve Farrugia leads his trio\, playing standards and jazz tunes. Main dining room. No cover
URL:https://thekingstonhouse.ca/event/thursday-jazz-steve-farrugia-trio/
CATEGORIES:Jazz
END:VEVENT
BEGIN:VEVENT
DTSTART;TZID=UTC:20250819T190000
DTEND;TZID=UTC:20250819T213000
DTSTAMP:20260425T140910
CREATED:20250807T020609Z
LAST-MODIFIED:20250807T020609Z
UID:2466-1755630000-1755639000@thekingstonhouse.ca
SUMMARY:Ries and Steve
DESCRIPTION:Singer/guitarist Larisa Renee and guitarist Steven Cole play a mix of pop songs\, blues\, country and swing.\nUpstairs dining room. No cover
URL:https://thekingstonhouse.ca/event/ries-and-steve-2/
CATEGORIES:Music
ATTACH;FMTTYPE=image/jpeg:https://thekingstonhouse.ca/wp-content/uploads/2025/06/Ries_Steve_cal.jpg
END:VEVENT
BEGIN:VEVENT
DTSTART;TZID=UTC:20250817T130000
DTEND;TZID=UTC:20250817T160000
DTSTAMP:20260425T140910
CREATED:20250522T002041Z
LAST-MODIFIED:20250522T002041Z
UID:2419-1755435600-1755446400@thekingstonhouse.ca
SUMMARY:Girl’s Night Out vocal jazz jam
DESCRIPTION:Come join us at Toronto’s longest running vocal jam\, Lisa Particelli’s GNO Vocalist-Friendly Jazz Jam!\nHosting on behalf of Lisa will be Ilana Waldston and Sam Broverman\, with Peter Hill on keys and Jordan O’Connor on bass.\nSing a tune with our terrific band if you like! Either bring a couple of lead sheets\, or choose a jazz standard and the band will help you find your key. Singers at all levels are welcome. You’ll be cheered on by our wonderful and supportive GNO regulars.\nDon’t sing? Come and enjoy an exciting variety of singers in a fun\, convivial atmosphere; it’s always a great hang.\nPWYC $10 to $20 suggested\, cash preferred.
URL:https://thekingstonhouse.ca/event/girls-night-out-vocal-jazz-jam-7/
CATEGORIES:Jazz
END:VEVENT
BEGIN:VEVENT
DTSTART;TZID=UTC:20250814T193000
DTEND;TZID=UTC:20250814T220000
DTSTAMP:20260425T140910
CREATED:20250521T213107Z
LAST-MODIFIED:20250521T215328Z
UID:2411-1755199800-1755208800@thekingstonhouse.ca
SUMMARY:Thursday Jazz - Julie Michels
DESCRIPTION:Julie Michels sings jazz favorites and vocal surprises!
URL:https://thekingstonhouse.ca/event/thursday-jazz-julie-michels-5/
CATEGORIES:Jazz
ATTACH;FMTTYPE=image/jpeg:https://thekingstonhouse.ca/wp-content/uploads/2024/12/Julie_Wings.jpg
END:VEVENT
BEGIN:VEVENT
DTSTART;TZID=UTC:20250812T190000
DTEND;TZID=UTC:20250812T213000
DTSTAMP:20260425T140910
CREATED:20250807T021953Z
LAST-MODIFIED:20250807T021953Z
UID:2468-1755025200-1755034200@thekingstonhouse.ca
SUMMARY:Jimmy Helverson
DESCRIPTION:Guitarist and singer Jimmy Helverson performs popular music including the blues\, rock\, soul\, classic R & B\, and country. Upstairs dining room\, No cover
URL:https://thekingstonhouse.ca/event/jimmy-helverson-9/
CATEGORIES:Music
ATTACH;FMTTYPE=image/jpeg:https://thekingstonhouse.ca/wp-content/uploads/2025/08/Jimmy_Helverson_blank.jpg
END:VEVENT
BEGIN:VEVENT
DTSTART;TZID=UTC:20250805T190000
DTEND;TZID=UTC:20250805T213000
DTSTAMP:20260425T140910
CREATED:20250626T220703Z
LAST-MODIFIED:20250626T220703Z
UID:2430-1754420400-1754429400@thekingstonhouse.ca
SUMMARY:Ries and Steve
DESCRIPTION:Singer/guitarist Larisa Renee and guitarist Steven Cole play a mix of pop songs\, blues\, country and swing.\nUpstairs dining room. No cover
URL:https://thekingstonhouse.ca/event/ries-and-steve/
CATEGORIES:Music
ATTACH;FMTTYPE=image/jpeg:https://thekingstonhouse.ca/wp-content/uploads/2025/06/Ries_Steve_cal.jpg
END:VEVENT
BEGIN:VEVENT
DTSTART;TZID=UTC:20250731T190000
DTEND;TZID=UTC:20250731T213000
DTSTAMP:20260425T140910
CREATED:20250718T040607Z
LAST-MODIFIED:20250721T060414Z
UID:2460-1753988400-1753997400@thekingstonhouse.ca
SUMMARY:Thursday Jazz - Ilios Steryannis 'We Three'
DESCRIPTION:Drummer Ilios Steryannis’s trio ‘We Three’ with Josh Smiley on keyboard and Bennett Young on bass.\nPerforming in the Upper level. No cover
URL:https://thekingstonhouse.ca/event/thursday-jazz-ilios-steryannis-we-three/
CATEGORIES:Jazz
ATTACH;FMTTYPE=image/jpeg:https://thekingstonhouse.ca/wp-content/uploads/2025/07/We_three_logo.jpg
END:VEVENT
BEGIN:VEVENT
DTSTART;TZID=UTC:20250729T190000
DTEND;TZID=UTC:20250729T220000
DTSTAMP:20260425T140910
CREATED:20250626T224154Z
LAST-MODIFIED:20250626T224154Z
UID:2448-1753815600-1753826400@thekingstonhouse.ca
SUMMARY:Jimmy Helverson
DESCRIPTION:Guitarist and singer Jimmy Helverson performs popular music including the blues\, rock\, soul\, classic R & B\, and country.\nUpstairs dining room\, No cover
URL:https://thekingstonhouse.ca/event/jimmy-helverson-8/
CATEGORIES:Music
END:VEVENT
BEGIN:VEVENT
DTSTART;TZID=UTC:20250724T190000
DTEND;TZID=UTC:20250724T213000
DTSTAMP:20260425T140910
CREATED:20250626T222504Z
LAST-MODIFIED:20250626T222504Z
UID:2437-1753383600-1753392600@thekingstonhouse.ca
SUMMARY:Thursday Jazz - Steven Cole trio
DESCRIPTION:Guitarist Steven Cole with Peter Telford on bass and Ben Ball on drums.  Upstairs dining room\, No cover
URL:https://thekingstonhouse.ca/event/thursday-jazz-steven-cole-trio/
CATEGORIES:Jazz
END:VEVENT
BEGIN:VEVENT
DTSTART;TZID=UTC:20250722T190000
DTEND;TZID=UTC:20250722T220000
DTSTAMP:20260425T140910
CREATED:20250626T223802Z
LAST-MODIFIED:20250626T223802Z
UID:2446-1753210800-1753221600@thekingstonhouse.ca
SUMMARY:Douglas Cameron
DESCRIPTION:Guitarist\, singer/songwriter and multi-instrumentalist Douglas John Cameron performing Country and Roots\, Blues and R & B.\nUpstairs dining room\, No cover
URL:https://thekingstonhouse.ca/event/douglas-cameron/
CATEGORIES:Music
ATTACH;FMTTYPE=image/jpeg:https://thekingstonhouse.ca/wp-content/uploads/2025/01/DJCHead1_sml.jpg
END:VEVENT
BEGIN:VEVENT
DTSTART;TZID=UTC:20250720T130000
DTEND;TZID=UTC:20250720T160000
DTSTAMP:20260425T140910
CREATED:20250522T001528Z
LAST-MODIFIED:20250522T001528Z
UID:2417-1753016400-1753027200@thekingstonhouse.ca
SUMMARY:Girl’s Night Out vocal jazz jam
DESCRIPTION:Come join us at Toronto’s longest running vocal jam\, Lisa Particelli’s GNO Vocalist-Friendly Jazz Jam!\nHosting on behalf of Lisa will be Ilana Waldston and Sam Broverman\, with Peter Hill on keys and Jordan O’Connor on bass.\nSing a tune with our terrific band if you like! Either bring a couple of lead sheets\, or choose a jazz standard and the band will help you find your key. Singers at all levels are welcome. You’ll be cheered on by our wonderful and supportive GNO regulars.\nDon’t sing? Come and enjoy an exciting variety of singers in a fun\, convivial atmosphere; it’s always a great hang.\nPWYC $10 to $20 suggested\, cash preferred.
URL:https://thekingstonhouse.ca/event/girls-night-out-vocal-jazz-jam-6/
CATEGORIES:Jazz
END:VEVENT
BEGIN:VEVENT
DTSTART;TZID=UTC:20250717T190000
DTEND;TZID=UTC:20250717T213000
DTSTAMP:20260425T140910
CREATED:20250626T222119Z
LAST-MODIFIED:20250626T222119Z
UID:2435-1752778800-1752787800@thekingstonhouse.ca
SUMMARY:Thursday Jazz - Samantha Clayton trio
DESCRIPTION:Samantha Clayton sings from Mitchell to Monk\, jazz classics and songs from the Great American songbook. With Steven Cole\, guitar and Peter Telford\, bass.
URL:https://thekingstonhouse.ca/event/thursday-jazz-samantha-clayton-trio/
CATEGORIES:Jazz
ATTACH;FMTTYPE=image/jpeg:https://thekingstonhouse.ca/wp-content/uploads/2024/10/KH_trio_sam_event.jpg
END:VEVENT
BEGIN:VEVENT
DTSTART;TZID=UTC:20250715T190000
DTEND;TZID=UTC:20250715T220000
DTSTAMP:20260425T140910
CREATED:20250626T223433Z
LAST-MODIFIED:20250626T223433Z
UID:2444-1752606000-1752616800@thekingstonhouse.ca
SUMMARY:Monet & Christian
DESCRIPTION:Monet and Christian\, folk and pop music duo on land and sea.\nUpstairs dining room\, No cover
URL:https://thekingstonhouse.ca/event/monet-christian/
CATEGORIES:Music
ATTACH;FMTTYPE=image/jpeg:https://thekingstonhouse.ca/wp-content/uploads/2025/04/MonetChristian_post.jpg
END:VEVENT
BEGIN:VEVENT
DTSTART;TZID=UTC:20250710T193000
DTEND;TZID=UTC:20250710T220000
DTSTAMP:20260425T140910
CREATED:20250521T212757Z
LAST-MODIFIED:20250521T212757Z
UID:2409-1752175800-1752184800@thekingstonhouse.ca
SUMMARY:Thursday Jazz - Julie Michels
DESCRIPTION:Julie Michels sings jazz favorites and vocal surprises!
URL:https://thekingstonhouse.ca/event/thursday-jazz-julie-michels-4/
CATEGORIES:Jazz
ATTACH;FMTTYPE=image/jpeg:https://thekingstonhouse.ca/wp-content/uploads/2024/12/Julie_Wings.jpg
END:VEVENT
BEGIN:VEVENT
DTSTART;TZID=UTC:20250708T190000
DTEND;TZID=UTC:20250708T220000
DTSTAMP:20260425T140910
CREATED:20250626T223157Z
LAST-MODIFIED:20250626T223157Z
UID:2442-1752001200-1752012000@thekingstonhouse.ca
SUMMARY:Arlene Paculan
DESCRIPTION:Arlene Paculan\, piano-playing singer-songwriter sings classics! Songs you forgot about and original tunes\, very easy listening.
URL:https://thekingstonhouse.ca/event/arlene-paculan/
CATEGORIES:Music
ATTACH;FMTTYPE=image/jpeg:https://thekingstonhouse.ca/wp-content/uploads/2025/04/ArlenePaculanSmallFile.jpg
END:VEVENT
BEGIN:VEVENT
DTSTART;TZID=UTC:20250703T190000
DTEND;TZID=UTC:20250703T213000
DTSTAMP:20260425T140910
CREATED:20250626T221238Z
LAST-MODIFIED:20250626T221238Z
UID:2433-1751569200-1751578200@thekingstonhouse.ca
SUMMARY:Thursday Jazz - Andrew Scott trio
DESCRIPTION:Guitarist Andrew Scott plays jazz standards and bebop.  Upstairs dining room\, No cover
URL:https://thekingstonhouse.ca/event/thursday-jazz-andrew-scott-trio/
CATEGORIES:Jazz
ATTACH;FMTTYPE=image/jpeg:https://thekingstonhouse.ca/wp-content/uploads/2024/12/andrew_scott.jpg
END:VEVENT
BEGIN:VEVENT
DTSTART;TZID=UTC:20250624T190000
DTEND;TZID=UTC:20250624T213000
DTSTAMP:20260425T140910
CREATED:20250522T002855Z
LAST-MODIFIED:20250623T044429Z
UID:2421-1750791600-1750800600@thekingstonhouse.ca
SUMMARY:Ries and Steve
DESCRIPTION:Singer/guitarist Larisa Renee and guitarist Steven Cole play a mix of pop songs\, blues\, country and swing.
URL:https://thekingstonhouse.ca/event/larisa-and-steve/
CATEGORIES:Music
ATTACH;FMTTYPE=image/jpeg:https://thekingstonhouse.ca/wp-content/uploads/2025/05/Ries_Steve_mailer.jpg
END:VEVENT
BEGIN:VEVENT
DTSTART;TZID=UTC:20250619T190000
DTEND;TZID=UTC:20250619T213000
DTSTAMP:20260425T140910
CREATED:20250626T222716Z
LAST-MODIFIED:20250626T222716Z
UID:2439-1750359600-1750368600@thekingstonhouse.ca
SUMMARY:Thursday Jazz - Steven Cole trio
DESCRIPTION:Guitarist Steven Cole with Peter Telford on bass and Ben Ball on drums.  Upstairs dining room\, No cover
URL:https://thekingstonhouse.ca/event/thursday-jazz-steven-cole-trio-2/
CATEGORIES:Jazz
ATTACH;FMTTYPE=image/jpeg:https://thekingstonhouse.ca/wp-content/uploads/2025/06/KH_cole_trio_1000.jpg
END:VEVENT
BEGIN:VEVENT
DTSTART;TZID=UTC:20250617T190000
DTEND;TZID=UTC:20250617T220000
DTSTAMP:20260425T140910
CREATED:20250515T225709Z
LAST-MODIFIED:20250515T225709Z
UID:2398-1750186800-1750197600@thekingstonhouse.ca
SUMMARY:Douglas Cameron - guitarist\, singer/songwriter
DESCRIPTION:Guitarist\, singer/songwriter and multi-instrumentalist Douglas John Cameron performing Country and Roots\, Blues and R & B. He is a two time Juno nominee and has been performing in Canada for five decades with many TV and recording credits as a composer and performer. Some of those credits include Doc (Showtime/Pax TV)\, Designer Guys\, Holmes on Homes (HG TV)\, Heart of a Poet (Bravo/Book TV)\, The National\, CBC Sunday(CBC/Newsworld)\, Dear America (HBO)\, Ants In Your Pants\, Big and Small\, (Treehouse TV)\, Nanalan\, What’s Your News (CBC). \nDouglas is now a member of Whiskey Jack and In partnership with Duncan Fremlin\, performs in Whiskey Jack Presents Stories & Songs of Stompin’ Tom. He recorded and produced the new Whiskey Jack album Whiskey Jack 10 – Do It Again! Douglas also plays drums in Three Chord Johnny\, Toronto’s most literary R and B collective.
URL:https://thekingstonhouse.ca/event/douglas-cameron-guitarist-singer-songwriter/
CATEGORIES:Music
ATTACH;FMTTYPE=image/jpeg:https://thekingstonhouse.ca/wp-content/uploads/2025/01/DJCHead1_sml.jpg
END:VEVENT
BEGIN:VEVENT
DTSTART;TZID=UTC:20250615T130000
DTEND;TZID=UTC:20250615T160000
DTSTAMP:20260425T140910
CREATED:20250522T001406Z
LAST-MODIFIED:20250522T001406Z
UID:2415-1749992400-1750003200@thekingstonhouse.ca
SUMMARY:Girl’s Night Out vocal jazz jam
DESCRIPTION:Come join us at Toronto’s longest running vocal jam\, Lisa Particelli’s GNO Vocalist-Friendly Jazz Jam!\nHosting on behalf of Lisa will be Ilana Waldston and Sam Broverman\, with Peter Hill on keys and Jordan O’Connor on bass.\nSing a tune with our terrific band if you like! Either bring a couple of lead sheets\, or choose a jazz standard and the band will help you find your key. Singers at all levels are welcome. You’ll be cheered on by our wonderful and supportive GNO regulars.\nDon’t sing? Come and enjoy an exciting variety of singers in a fun\, convivial atmosphere; it’s always a great hang.\nPWYC $10 to $20 suggested\, cash preferred.
URL:https://thekingstonhouse.ca/event/girls-night-out-vocal-jazz-jam-5/
CATEGORIES:Jazz
END:VEVENT
BEGIN:VEVENT
DTSTART;TZID=UTC:20250612T193000
DTEND;TZID=UTC:20250612T220000
DTSTAMP:20260425T140910
CREATED:20250515T230444Z
LAST-MODIFIED:20250515T230444Z
UID:2403-1749756600-1749765600@thekingstonhouse.ca
SUMMARY:Thursday Jazz - Julie Michels
DESCRIPTION:Julie Michels – jazz favorites and vocal surprises!
URL:https://thekingstonhouse.ca/event/thursday-jazz-julie-michels-3/
CATEGORIES:Jazz
ATTACH;FMTTYPE=image/jpeg:https://thekingstonhouse.ca/wp-content/uploads/2024/12/Julie_Wings.jpg
END:VEVENT
END:VCALENDAR