BEGIN:VCALENDAR
VERSION:2.0
PRODID:-//The Kingston House - ECPv6.15.20//NONSGML v1.0//EN
CALSCALE:GREGORIAN
METHOD:PUBLISH
X-WR-CALNAME:The Kingston House
X-ORIGINAL-URL:https://thekingstonhouse.ca
X-WR-CALDESC:Events for The Kingston House
REFRESH-INTERVAL;VALUE=DURATION:PT1H
X-Robots-Tag:noindex
X-PUBLISHED-TTL:PT1H
BEGIN:VTIMEZONE
TZID:UTC
BEGIN:STANDARD
TZOFFSETFROM:+0000
TZOFFSETTO:+0000
TZNAME:UTC
DTSTART:20240101T000000
END:STANDARD
END:VTIMEZONE
BEGIN:VEVENT
DTSTART;TZID=UTC:20260326T190000
DTEND;TZID=UTC:20260326T213000
DTSTAMP:20260425T110101
CREATED:20260329T164118Z
LAST-MODIFIED:20260329T164118Z
UID:2759-1774551600-1774560600@thekingstonhouse.ca
SUMMARY:Thursday jazz - Steven Cole trio
DESCRIPTION:Steven Cole with Peter Telford bass and Ben Ball drums.  Main roon\, No cover
URL:https://thekingstonhouse.ca/event/thursday-jazz-steven-cole-trio-6/
CATEGORIES:Jazz
ATTACH;FMTTYPE=image/jpeg:https://thekingstonhouse.ca/wp-content/uploads/2026/02/KH_Cole_trio_post.jpg
END:VEVENT
BEGIN:VEVENT
DTSTART;TZID=UTC:20260324T190000
DTEND;TZID=UTC:20260324T213000
DTSTAMP:20260425T110101
CREATED:20260312T062202Z
LAST-MODIFIED:20260312T062202Z
UID:2752-1774378800-1774387800@thekingstonhouse.ca
SUMMARY:Arlene Paculan
DESCRIPTION:Arlene Paculan\, piano-playing singer-songwriter sings classics! Songs you forgot about and original tunes\, very easy listening. Upstairs dining room\, No cover
URL:https://thekingstonhouse.ca/event/arlene-paculan-6/
CATEGORIES:Music
ATTACH;FMTTYPE=image/jpeg:https://thekingstonhouse.ca/wp-content/uploads/2025/04/ArlenePaculanSmallFile.jpg
END:VEVENT
BEGIN:VEVENT
DTSTART;TZID=UTC:20260319T190000
DTEND;TZID=UTC:20260319T213000
DTSTAMP:20260425T110101
CREATED:20260302T231419Z
LAST-MODIFIED:20260302T231419Z
UID:2741-1773946800-1773955800@thekingstonhouse.ca
SUMMARY:Thursday Jazz - Steven Cole duo
DESCRIPTION:Steven Cole on guitar with Peter Telford on bass playing jazz\, standards and music we like.\nMain dining room\, No cover.
URL:https://thekingstonhouse.ca/event/thursday-jazz-steven-cole-duo/
CATEGORIES:Jazz
ATTACH;FMTTYPE=image/jpeg:https://thekingstonhouse.ca/wp-content/uploads/2024/11/Steven_Cole_Peter_Telford_mailer.jpg
END:VEVENT
BEGIN:VEVENT
DTSTART;TZID=UTC:20260317T190000
DTEND;TZID=UTC:20260317T213000
DTSTAMP:20260425T110101
CREATED:20260312T060919Z
LAST-MODIFIED:20260312T060919Z
UID:2747-1773774000-1773783000@thekingstonhouse.ca
SUMMARY:St. Patrick's Day - with Holly Clausius
DESCRIPTION:Toronto guitarist and singer/songwriter Holly Clausius performs pop\, folk\, soul\, acoustic guitar covers and orignals\, and Irish band favorites for St. Patrick’s Day.\nUpstairs dining room\, No cover.\nhttp://www.hollyclausius.com
URL:https://thekingstonhouse.ca/event/st-patricks-day-with-holly-clausius/
CATEGORIES:Music
ATTACH;FMTTYPE=image/jpeg:https://thekingstonhouse.ca/wp-content/uploads/2025/11/Holly_Clausius-1.jpg
END:VEVENT
BEGIN:VEVENT
DTSTART;TZID=UTC:20260317T180000
DTEND;TZID=UTC:20260317T213000
DTSTAMP:20260425T110101
CREATED:20260312T061837Z
LAST-MODIFIED:20260312T062908Z
UID:2749-1773770400-1773783000@thekingstonhouse.ca
SUMMARY:Pot O Gold Dinner and Comedy
DESCRIPTION:Join us for a St Patrick’s Day feast and comedy show in our Downstairs Event room!\n6pm – 7pm: Dinner (you can still order food all night)\n– Pre Fixe featuring traditional Irish food\, with 3 choices each category\, appetizer\, main course and dessert. Menu to be announced soon!\n– You can also order off the regular menu right up until 9pm! The Kingston House makes fabulous food!\n7pm Showtime!\n90 mins of hilarity featuring a fine roster of true leprechauns that will make you laugh so hard you’ll get a face boner for sure! With host Jo Baker. Lots of free swag from Guinness and a free hand decorated cookie to take home!\nAll comics are PRO\, you will not be disappointed!  \n$50 for a dinner and show package\, drinks extra\, free swag and hand decorated cookie\nGood until March 10th midnight  \nTHEN THE PRICE GOES UP!\nShow only: $18 adv until March 16\, midnight\n$20 day of the show\nDinner & Show: $60 adv until March 16\, midnight\n$65 day of the show \nADVANCED TIX ARE HIGHLY RECOMENDED\, THERE MAY NOT BE WALK IN SPACE!!
URL:https://thekingstonhouse.ca/event/pot-o-gold-dinner-and-comedy/
ATTACH;FMTTYPE=image/jpeg:https://thekingstonhouse.ca/wp-content/uploads/2026/03/KH_comedy_st_patricks.jpg
END:VEVENT
BEGIN:VEVENT
DTSTART;TZID=UTC:20260312T193000
DTEND;TZID=UTC:20260312T220000
DTSTAMP:20260425T110101
CREATED:20260302T232330Z
LAST-MODIFIED:20260302T232330Z
UID:2743-1773343800-1773352800@thekingstonhouse.ca
SUMMARY:Thursday Jazz - Julie Michels
DESCRIPTION:Singer Julie Michels with Steven Cole on guitar and Peter Telford on bass.\nDownstairs event room.
URL:https://thekingstonhouse.ca/event/thursday-jazz-julie-michels-10/
CATEGORIES:Jazz
ATTACH;FMTTYPE=image/jpeg:https://thekingstonhouse.ca/wp-content/uploads/2024/12/Julie_Wings.jpg
END:VEVENT
BEGIN:VEVENT
DTSTART;TZID=UTC:20260310T190000
DTEND;TZID=UTC:20260310T213000
DTSTAMP:20260425T110101
CREATED:20260219T174707Z
LAST-MODIFIED:20260302T232529Z
UID:2736-1773169200-1773178200@thekingstonhouse.ca
SUMMARY:Ries and Steve
DESCRIPTION:Singer/guitarist Larisa Renee and guitarist Steven Cole play a mix of pop songs\, blues\, country and swing. Songs you know and some you may not have heard before. Upstairs dining room\, No cover
URL:https://thekingstonhouse.ca/event/ries-and-steve-5/
CATEGORIES:Music
ATTACH;FMTTYPE=image/jpeg:https://thekingstonhouse.ca/wp-content/uploads/2026/02/Ries_Steve_poster.jpg
END:VEVENT
BEGIN:VEVENT
DTSTART;TZID=UTC:20260305T190000
DTEND;TZID=UTC:20260305T213000
DTSTAMP:20260425T110101
CREATED:20260302T230610Z
LAST-MODIFIED:20260302T230610Z
UID:2738-1772737200-1772746200@thekingstonhouse.ca
SUMMARY:Thursday Jazz - Brendan Davis trio
DESCRIPTION:Bassist Brendan Davis’s trio featuring Sam Dickinson on guitar and Alvin Cornista on tenor sax.\nMain dining room\, No cover.
URL:https://thekingstonhouse.ca/event/thursday-jazz-brendan-davis-trio/
CATEGORIES:Jazz
ATTACH;FMTTYPE=image/jpeg:https://thekingstonhouse.ca/wp-content/uploads/2026/03/brendan_davis.jpg
END:VEVENT
BEGIN:VEVENT
DTSTART;TZID=UTC:20260303T190000
DTEND;TZID=UTC:20260303T213000
DTSTAMP:20260425T110101
CREATED:20260219T174327Z
LAST-MODIFIED:20260219T174446Z
UID:2734-1772564400-1772573400@thekingstonhouse.ca
SUMMARY:Jimmy Helverson
DESCRIPTION:Guitarist and singer Jimmy Helverson performs popular music including the blues\, rock\, soul\, classic R & B\, and country. Upstairs dining room\, No cover
URL:https://thekingstonhouse.ca/event/jimmy-helverson-14/
CATEGORIES:Music
ATTACH;FMTTYPE=image/jpeg:https://thekingstonhouse.ca/wp-content/uploads/2025/08/Jimmy_Helverson_blank.jpg
END:VEVENT
BEGIN:VEVENT
DTSTART;TZID=UTC:20260226T190000
DTEND;TZID=UTC:20260226T213000
DTSTAMP:20260425T110101
CREATED:20260219T173936Z
LAST-MODIFIED:20260219T173936Z
UID:2732-1772132400-1772141400@thekingstonhouse.ca
SUMMARY:Thursday jazz - Andrew Scott trio
DESCRIPTION:Guitarist Andrew Scott plays jazz standards\, bebop\, and more. Upstairs dining room\, No cover
URL:https://thekingstonhouse.ca/event/thursday-jazz-andrew-scott-trio-5/
CATEGORIES:Jazz
ATTACH;FMTTYPE=image/jpeg:https://thekingstonhouse.ca/wp-content/uploads/2024/12/andrew_scott.jpg
END:VEVENT
BEGIN:VEVENT
DTSTART;TZID=UTC:20260224T190000
DTEND;TZID=UTC:20260224T213000
DTSTAMP:20260425T110101
CREATED:20260215T173349Z
LAST-MODIFIED:20260215T173349Z
UID:2725-1771959600-1771968600@thekingstonhouse.ca
SUMMARY:Arlene Paculan
DESCRIPTION:Arlene Paculan\, piano-playing singer-songwriter sings classics! Songs you forgot about and original tunes\, very easy listening. Upstairs dining room\, No cover
URL:https://thekingstonhouse.ca/event/arlene-paculan-5/
CATEGORIES:Music
ATTACH;FMTTYPE=image/jpeg:https://thekingstonhouse.ca/wp-content/uploads/2025/04/ArlenePaculanSmallFile.jpg
END:VEVENT
BEGIN:VEVENT
DTSTART;TZID=UTC:20260219T190000
DTEND;TZID=UTC:20260219T213000
DTSTAMP:20260425T110101
CREATED:20260215T173542Z
LAST-MODIFIED:20260219T173504Z
UID:2727-1771527600-1771536600@thekingstonhouse.ca
SUMMARY:Thursday jazz - Steven Cole trio
DESCRIPTION:Guitarist Steven Cole with bassist Peter Telford and Ben Ball on drums play music by great jazz artists\,  standards\, and more. Main dining room. No cover.
URL:https://thekingstonhouse.ca/event/thursday-jazz-steven-cole-peter-telford/
CATEGORIES:Jazz
ATTACH;FMTTYPE=image/jpeg:https://thekingstonhouse.ca/wp-content/uploads/2026/02/KH_Cole_trio_post.jpg
END:VEVENT
BEGIN:VEVENT
DTSTART;TZID=UTC:20260217T190000
DTEND;TZID=UTC:20260217T210000
DTSTAMP:20260425T110101
CREATED:20260215T173204Z
LAST-MODIFIED:20260215T173204Z
UID:2723-1771354800-1771362000@thekingstonhouse.ca
SUMMARY:Holly Clausius
DESCRIPTION:Toronto guitarist and singer/songwriter Holly Clausius will be playing pop\, folk\, soul and acoustic guitar covers and orignals. Upstairs dining room\, No cover http://www.hollyclausius.com
URL:https://thekingstonhouse.ca/event/holly-clausius-2/
CATEGORIES:Music
ATTACH;FMTTYPE=image/jpeg:https://thekingstonhouse.ca/wp-content/uploads/2025/11/Holly_Clausius-1.jpg
END:VEVENT
BEGIN:VEVENT
DTSTART;TZID=UTC:20260212T193000
DTEND;TZID=UTC:20260212T220000
DTSTAMP:20260425T110101
CREATED:20260205T074656Z
LAST-MODIFIED:20260205T074656Z
UID:2714-1770924600-1770933600@thekingstonhouse.ca
SUMMARY:Thursday jazz - Julie Michels
DESCRIPTION:Vocalist Julie Michels with guitarist Kevin Barrett. Jazz favorites and vocal surprises! Downstairs Event room.
URL:https://thekingstonhouse.ca/event/thursday-jazz-julie-michels-9/
CATEGORIES:Jazz
ATTACH;FMTTYPE=image/jpeg:https://thekingstonhouse.ca/wp-content/uploads/2024/12/Julie_Wings.jpg
END:VEVENT
BEGIN:VEVENT
DTSTART;TZID=UTC:20260205T190000
DTEND;TZID=UTC:20260205T213000
DTSTAMP:20260425T110101
CREATED:20260205T011716Z
LAST-MODIFIED:20260205T074751Z
UID:2712-1770318000-1770327000@thekingstonhouse.ca
SUMMARY:Thursday jazz - Steven Cole/Peter Telford duo
DESCRIPTION:Guitarist Steven Cole and bassist Peter Telford play jazz\, standards\, and more.\nMain dining room. No cover.
URL:https://thekingstonhouse.ca/event/thursday-jazz-steven-cole-peter-telford-duo/
CATEGORIES:Jazz
ATTACH;FMTTYPE=image/jpeg:https://thekingstonhouse.ca/wp-content/uploads/2026/02/KH_steven_peter_duo_post.jpg
END:VEVENT
BEGIN:VEVENT
DTSTART;TZID=UTC:20260203T190000
DTEND;TZID=UTC:20260203T213000
DTSTAMP:20260425T110101
CREATED:20260205T011350Z
LAST-MODIFIED:20260205T011350Z
UID:2709-1770145200-1770154200@thekingstonhouse.ca
SUMMARY:Ries & Steve acoustic duo
DESCRIPTION:Singer/guitarist Larisa Renee and guitarist Steven Cole play a mix of pop songs\, blues\, country and swing. Songs you know and some you may not have heard before.\nUpstairs dining room. No cover
URL:https://thekingstonhouse.ca/event/ries-steve-acoustic-duo/
CATEGORIES:Music
ATTACH;FMTTYPE=image/jpeg:https://thekingstonhouse.ca/wp-content/uploads/2026/02/Ries_Steve_KH_post.jpg
END:VEVENT
BEGIN:VEVENT
DTSTART;TZID=UTC:20260129T193000
DTEND;TZID=UTC:20260129T220000
DTSTAMP:20260425T110101
CREATED:20260102T013359Z
LAST-MODIFIED:20260119T011853Z
UID:2684-1769715000-1769724000@thekingstonhouse.ca
SUMMARY:Thursday Jazz - Daniel Barnes trio
DESCRIPTION:Drummer Daniel Barnes trio with Steve Carson on tenor sax and Hiro Tanaka on bass. Playing originals\, jazz standards and music by great jazz artists. Main dining room\, no cover
URL:https://thekingstonhouse.ca/event/thursday-jazz-daniel-barnes-trio-2/
CATEGORIES:Jazz
ATTACH;FMTTYPE=image/jpeg:https://thekingstonhouse.ca/wp-content/uploads/2026/01/KH_barnes_trio_post.jpg
END:VEVENT
BEGIN:VEVENT
DTSTART;TZID=UTC:20260127T190000
DTEND;TZID=UTC:20260127T213000
DTSTAMP:20260425T110101
CREATED:20260119T011027Z
LAST-MODIFIED:20260119T011027Z
UID:2691-1769540400-1769549400@thekingstonhouse.ca
SUMMARY:Arlene Paculan vocalist/piano
DESCRIPTION:Arlene Paculan\, piano-playing singer-songwriter sings classics! Songs you forgot about and original tunes\, very easy listening.\nUpstairs dining room\, No cover
URL:https://thekingstonhouse.ca/event/arlene-paculan-vocalist-piano/
CATEGORIES:Music
ATTACH;FMTTYPE=image/jpeg:https://thekingstonhouse.ca/wp-content/uploads/2025/04/ArlenePaculanSmallFile.jpg
END:VEVENT
BEGIN:VEVENT
DTSTART;TZID=UTC:20260122T193000
DTEND;TZID=UTC:20260122T220000
DTSTAMP:20260425T110101
CREATED:20260118T163227Z
LAST-MODIFIED:20260119T011950Z
UID:2687-1769110200-1769119200@thekingstonhouse.ca
SUMMARY:Thursday Jazz - Steven Cole trio
DESCRIPTION:Guitarist Steven Cole’s trio with Peter Telford and Ben Ball play jazz\, standards\, and music they like. Upstairs dining room\, No cover
URL:https://thekingstonhouse.ca/event/thursday-jazz-steven-cole-trio-5/
CATEGORIES:Jazz
ATTACH;FMTTYPE=image/jpeg:https://thekingstonhouse.ca/wp-content/uploads/2025/09/Steven_Cole_portrait.jpg
END:VEVENT
BEGIN:VEVENT
DTSTART;TZID=UTC:20260120T190000
DTEND;TZID=UTC:20260120T210000
DTSTAMP:20260425T110101
CREATED:20260119T010802Z
LAST-MODIFIED:20260119T010809Z
UID:2689-1768935600-1768942800@thekingstonhouse.ca
SUMMARY:Holly Clausius - vocalist/guitar
DESCRIPTION:Toronto guitarist and singer/songwriter Holly Clausius will be playing pop\, folk\, soul and acoustic guitar covers and orignals.\nUpstairs dining room\, No cover\nhttp://www.hollyclausius.com
URL:https://thekingstonhouse.ca/event/holly-clausius-vocalist-guitar/
CATEGORIES:Music
ATTACH;FMTTYPE=image/jpeg:https://thekingstonhouse.ca/wp-content/uploads/2025/11/Holly_Clausius-1.jpg
END:VEVENT
BEGIN:VEVENT
DTSTART;TZID=UTC:20260113T190000
DTEND;TZID=UTC:20260113T213000
DTSTAMP:20260425T110101
CREATED:20260102T012806Z
LAST-MODIFIED:20260102T012806Z
UID:2678-1768330800-1768339800@thekingstonhouse.ca
SUMMARY:Ries & Steve\, vocal duo
DESCRIPTION:Singer/guitarist Larisa Renee and guitarist Steven Cole play a mix of pop songs\, blues\, country and swing. Songs you know and some you may not have heard before.\nUpstairs dining room. No cover
URL:https://thekingstonhouse.ca/event/ries-steve-vocal-duo/
CATEGORIES:Music
END:VEVENT
BEGIN:VEVENT
DTSTART;TZID=UTC:20260108T193000
DTEND;TZID=UTC:20260108T220000
DTSTAMP:20260425T110101
CREATED:20260102T013152Z
LAST-MODIFIED:20260102T013152Z
UID:2682-1767900600-1767909600@thekingstonhouse.ca
SUMMARY:Thursday Jazz - Steven Cole trio
DESCRIPTION:Guitarist Steven Cole’s trio plays jazz and standards. Upstairs dining room\, No cover
URL:https://thekingstonhouse.ca/event/thursday-jazz-steven-cole-trio-4/
CATEGORIES:Jazz
ATTACH;FMTTYPE=image/jpeg:https://thekingstonhouse.ca/wp-content/uploads/2025/09/Steven_Cole_portrait.jpg
END:VEVENT
BEGIN:VEVENT
DTSTART;TZID=UTC:20260106T190000
DTEND;TZID=UTC:20260106T213000
DTSTAMP:20260425T110101
CREATED:20260102T012506Z
LAST-MODIFIED:20260102T012842Z
UID:2676-1767726000-1767735000@thekingstonhouse.ca
SUMMARY:Monet and Christian\, vocal duo
DESCRIPTION:Monet and Christian\, a folk and pop music duo performing on land and sea. A must hear and see! Upstairs dining room\, No cover
URL:https://thekingstonhouse.ca/event/monet-christian-vocal-duo/
CATEGORIES:Music
ATTACH;FMTTYPE=image/jpeg:https://thekingstonhouse.ca/wp-content/uploads/2025/04/MonetChristian_post.jpg
END:VEVENT
BEGIN:VEVENT
DTSTART;TZID=UTC:20251230T190000
DTEND;TZID=UTC:20251230T213000
DTSTAMP:20260425T110101
CREATED:20251209T001609Z
LAST-MODIFIED:20251209T001706Z
UID:2640-1767121200-1767130200@thekingstonhouse.ca
SUMMARY:Holly Clausius singer/guitarist
DESCRIPTION:Toronto guitarist and singer/songwriter Holly Clausius will be playing pop\, folk\, soul and acoustic guitar covers and orignals. Upstairs dining room\, No cover\nhttp://www.hollyclausius.com
URL:https://thekingstonhouse.ca/event/holly-clausius-singer-guitarist/
CATEGORIES:Music
ATTACH;FMTTYPE=image/jpeg:https://thekingstonhouse.ca/wp-content/uploads/2025/11/Holly_Clausius-1.jpg
END:VEVENT
BEGIN:VEVENT
DTSTART;TZID=UTC:20251223T190000
DTEND;TZID=UTC:20251223T213000
DTSTAMP:20260425T110101
CREATED:20251129T005448Z
LAST-MODIFIED:20251209T001855Z
UID:2625-1766516400-1766525400@thekingstonhouse.ca
SUMMARY:Arlene Paculan singer/pianist
DESCRIPTION:Arlene Paculan\, piano-playing singer-songwriter sings classics! Songs you forgot about and original tunes\, very easy listening. Upstairs dining room\, No cover
URL:https://thekingstonhouse.ca/event/arlene-paculan-4/
CATEGORIES:Music
ATTACH;FMTTYPE=image/jpeg:https://thekingstonhouse.ca/wp-content/uploads/2025/04/ArlenePaculanSmallFile.jpg
END:VEVENT
BEGIN:VEVENT
DTSTART;TZID=UTC:20251221T130000
DTEND;TZID=UTC:20251221T160000
DTSTAMP:20260425T110101
CREATED:20251218T180613Z
LAST-MODIFIED:20251218T180613Z
UID:2663-1766322000-1766332800@thekingstonhouse.ca
SUMMARY:Girl’s Night Out vocal jazz jam
DESCRIPTION:Come join us at Toronto’s longest running vocal jam\, Lisa Particelli’s GNO Vocalist-Friendly Jazz Jam!\nHosting on behalf of Lisa will be Ilana Waldston and Sam Broverman.\nSing a tune with our terrific band if you like! Either bring a couple of lead sheets\, or choose a jazz standard and the band will help you find your key. Singers at all levels are welcome. You’ll be cheered on by our wonderful and supportive GNO regulars.\nDon’t sing? Come and enjoy an exciting variety of singers in a fun\, convivial atmosphere; it’s always a great hang.\nPWYC $10 to $20 suggested\, cash preferred.
URL:https://thekingstonhouse.ca/event/girls-night-out-vocal-jazz-jam-10/
CATEGORIES:Jazz
END:VEVENT
BEGIN:VEVENT
DTSTART;TZID=UTC:20251218T193000
DTEND;TZID=UTC:20251218T220000
DTSTAMP:20260425T110101
CREATED:20251209T000556Z
LAST-MODIFIED:20251216T225921Z
UID:2634-1766086200-1766095200@thekingstonhouse.ca
SUMMARY:Thursday jazz - Andrew Scott Trio
DESCRIPTION:Guitarist Andrew Scott plays jazz standards\, bebop\, and more\, with Evan Miles on organ and Ben Ball on Drums. Upstairs dining room\, No cover
URL:https://thekingstonhouse.ca/event/thursday-jazz-andrew-scott-trio-4/
CATEGORIES:Jazz
ATTACH;FMTTYPE=image/jpeg:https://thekingstonhouse.ca/wp-content/uploads/2024/12/andrew_scott.jpg
END:VEVENT
BEGIN:VEVENT
DTSTART;TZID=UTC:20251216T190000
DTEND;TZID=UTC:20251216T213000
DTSTAMP:20260425T110101
CREATED:20251209T001200Z
LAST-MODIFIED:20251209T001920Z
UID:2638-1765911600-1765920600@thekingstonhouse.ca
SUMMARY:Monet and Christian singing duo
DESCRIPTION:Monet and Christian\, a folk and pop music duo performing on land and sea. A must hear and see!\nUpstairs dining room\, No cover
URL:https://thekingstonhouse.ca/event/monet-and-christian-3/
CATEGORIES:Music
ATTACH;FMTTYPE=image/jpeg:https://thekingstonhouse.ca/wp-content/uploads/2025/04/MonetChristian_post.jpg
END:VEVENT
BEGIN:VEVENT
DTSTART;TZID=UTC:20251211T193000
DTEND;TZID=UTC:20251211T220000
DTSTAMP:20260425T110101
CREATED:20251129T005133Z
LAST-MODIFIED:20251209T000831Z
UID:2623-1765481400-1765490400@thekingstonhouse.ca
SUMMARY:Thursday jazz -Steven Cole trio
DESCRIPTION:Guitarist Steven Cole’s trio with Brendan Davis on bass and Mike Kawabe on drums playing jazz and standards\, and some Christmas tunes too! Upstairs dining room\, No cover
URL:https://thekingstonhouse.ca/event/steven-cole-trio/
CATEGORIES:Jazz
ATTACH;FMTTYPE=image/jpeg:https://thekingstonhouse.ca/wp-content/uploads/2025/11/KH_scole_trio_post.jpg
END:VEVENT
BEGIN:VEVENT
DTSTART;TZID=UTC:20251210T200000
DTEND;TZID=UTC:20251210T220000
DTSTAMP:20260425T110101
CREATED:20251110T033203Z
LAST-MODIFIED:20251110T033203Z
UID:2600-1765396800-1765404000@thekingstonhouse.ca
SUMMARY:Open Mic Night
DESCRIPTION:Local Acoustic Open mic night at the Kingston House. Your hosts\, Lisa & Fred\, are very welcoming and cheerful. Join the fun. New players welcome!\nSign-up at 7:30pm
URL:https://thekingstonhouse.ca/event/open-mic-night-3/
CATEGORIES:Music
ATTACH;FMTTYPE=image/jpeg:https://thekingstonhouse.ca/wp-content/uploads/2025/11/Open_mic_2-nights.jpg
END:VEVENT
END:VCALENDAR