BEGIN:VCALENDAR
VERSION:2.0
PRODID:-//The Kingston House - ECPv6.15.20//NONSGML v1.0//EN
CALSCALE:GREGORIAN
METHOD:PUBLISH
X-WR-CALNAME:The Kingston House
X-ORIGINAL-URL:https://thekingstonhouse.ca
X-WR-CALDESC:Events for The Kingston House
REFRESH-INTERVAL;VALUE=DURATION:PT1H
X-Robots-Tag:noindex
X-PUBLISHED-TTL:PT1H
BEGIN:VTIMEZONE
TZID:UTC
BEGIN:STANDARD
TZOFFSETFROM:+0000
TZOFFSETTO:+0000
TZNAME:UTC
DTSTART:20250101T000000
END:STANDARD
END:VTIMEZONE
BEGIN:VEVENT
DTSTART;TZID=UTC:20260106T190000
DTEND;TZID=UTC:20260106T213000
DTSTAMP:20260425T101903
CREATED:20260102T012506Z
LAST-MODIFIED:20260102T012842Z
UID:2676-1767726000-1767735000@thekingstonhouse.ca
SUMMARY:Monet and Christian\, vocal duo
DESCRIPTION:Monet and Christian\, a folk and pop music duo performing on land and sea. A must hear and see! Upstairs dining room\, No cover
URL:https://thekingstonhouse.ca/event/monet-christian-vocal-duo/
CATEGORIES:Music
ATTACH;FMTTYPE=image/jpeg:https://thekingstonhouse.ca/wp-content/uploads/2025/04/MonetChristian_post.jpg
END:VEVENT
END:VCALENDAR