BEGIN:VCALENDAR
VERSION:2.0
PRODID:-//The Kingston House - ECPv6.15.20//NONSGML v1.0//EN
CALSCALE:GREGORIAN
METHOD:PUBLISH
X-WR-CALNAME:The Kingston House
X-ORIGINAL-URL:https://thekingstonhouse.ca
X-WR-CALDESC:Events for The Kingston House
REFRESH-INTERVAL;VALUE=DURATION:PT1H
X-Robots-Tag:noindex
X-PUBLISHED-TTL:PT1H
BEGIN:VTIMEZONE
TZID:UTC
BEGIN:STANDARD
TZOFFSETFROM:+0000
TZOFFSETTO:+0000
TZNAME:UTC
DTSTART:20240101T000000
END:STANDARD
END:VTIMEZONE
BEGIN:VEVENT
DTSTART;TZID=UTC:20251118T190000
DTEND;TZID=UTC:20251118T213000
DTSTAMP:20260425T131823
CREATED:20251110T031908Z
LAST-MODIFIED:20251110T035536Z
UID:2593-1763492400-1763501400@thekingstonhouse.ca
SUMMARY:Holly Clausius
DESCRIPTION:Toronto guitarist and singer/songwriter Holly Clausius will be playing pop\, folk\, soul and acoustic guitar covers and orignals.  Upstairs dining room\, No cover.\nhttp://www.hollyclausius.com/
URL:https://thekingstonhouse.ca/event/holly-clausius/
CATEGORIES:Music
ATTACH;FMTTYPE=image/jpeg:https://thekingstonhouse.ca/wp-content/uploads/2025/11/Holly_Clausius-1.jpg
END:VEVENT
END:VCALENDAR