BEGIN:VCALENDAR
VERSION:2.0
PRODID:-//The Kingston House - ECPv6.15.20//NONSGML v1.0//EN
CALSCALE:GREGORIAN
METHOD:PUBLISH
X-WR-CALNAME:The Kingston House
X-ORIGINAL-URL:https://thekingstonhouse.ca
X-WR-CALDESC:Events for The Kingston House
REFRESH-INTERVAL;VALUE=DURATION:PT1H
X-Robots-Tag:noindex
X-PUBLISHED-TTL:PT1H
BEGIN:VTIMEZONE
TZID:UTC
BEGIN:STANDARD
TZOFFSETFROM:+0000
TZOFFSETTO:+0000
TZNAME:UTC
DTSTART:20240101T000000
END:STANDARD
END:VTIMEZONE
BEGIN:VEVENT
DTSTART;TZID=UTC:20251115T200000
DTEND;TZID=UTC:20251115T220000
DTSTAMP:20260425T131752
CREATED:20251101T231954Z
LAST-MODIFIED:20251110T032951Z
UID:2563-1763236800-1763244000@thekingstonhouse.ca
SUMMARY:Open Mic night
DESCRIPTION:Local Acoustic Open mic night at the Kingston House. Your hosts\, Lisa & Fred\, are very welcoming and cheerful. Join the fun. New players welcome!\nSign-up at 7:30pm
URL:https://thekingstonhouse.ca/event/open-mic-night-2/
CATEGORIES:Music
ATTACH;FMTTYPE=image/jpeg:https://thekingstonhouse.ca/wp-content/uploads/2025/11/Open_mic_2-nights.jpg
END:VEVENT
END:VCALENDAR