BEGIN:VCALENDAR
VERSION:2.0
PRODID:-//The Kingston House - ECPv6.15.20//NONSGML v1.0//EN
CALSCALE:GREGORIAN
METHOD:PUBLISH
X-ORIGINAL-URL:https://thekingstonhouse.ca
X-WR-CALDESC:Events for The Kingston House
REFRESH-INTERVAL;VALUE=DURATION:PT1H
X-Robots-Tag:noindex
X-PUBLISHED-TTL:PT1H
BEGIN:VTIMEZONE
TZID:UTC
BEGIN:STANDARD
TZOFFSETFROM:+0000
TZOFFSETTO:+0000
TZNAME:UTC
DTSTART:20240101T000000
END:STANDARD
END:VTIMEZONE
BEGIN:VEVENT
DTSTART;TZID=UTC:20251019T130000
DTEND;TZID=UTC:20251019T160000
DTSTAMP:20260425T144351
CREATED:20250930T182132Z
LAST-MODIFIED:20250930T182132Z
UID:2516-1760878800-1760889600@thekingstonhouse.ca
SUMMARY:Girl’s Night Out vocal jazz jam
DESCRIPTION:Come join us at Toronto’s longest running vocal jam\, Lisa Particelli’s GNO Vocalist-Friendly Jazz Jam!\nHosting on behalf of Lisa will be Ilana Waldston and Sam Broverman\, with Rob Thaller on keys and Jordan O’Connor on bass.\nSing a tune with our terrific band if you like! Either bring a couple of lead sheets\, or choose a jazz standard and the band will help you find your key. Singers at all levels are welcome. You’ll be cheered on by our wonderful and supportive GNO regulars.\nDon’t sing? Come and enjoy an exciting variety of singers in a fun\, convivial atmosphere; it’s always a great hang.\nPWYC $10 to $20 suggested\, cash preferred.
URL:https://thekingstonhouse.ca/event/girls-night-out-vocal-jazz-jam-8/
CATEGORIES:Music
ATTACH;FMTTYPE=image/jpeg:https://thekingstonhouse.ca/wp-content/uploads/2025/09/KH_GNO_10-19-25.jpg
END:VEVENT
END:VCALENDAR