BEGIN:VCALENDAR
VERSION:2.0
PRODID:-//The Kingston House - ECPv6.15.20//NONSGML v1.0//EN
CALSCALE:GREGORIAN
METHOD:PUBLISH
X-WR-CALNAME:The Kingston House
X-ORIGINAL-URL:https://thekingstonhouse.ca
X-WR-CALDESC:Events for The Kingston House
REFRESH-INTERVAL;VALUE=DURATION:PT1H
X-Robots-Tag:noindex
X-PUBLISHED-TTL:PT1H
BEGIN:VTIMEZONE
TZID:UTC
BEGIN:STANDARD
TZOFFSETFROM:+0000
TZOFFSETTO:+0000
TZNAME:UTC
DTSTART:20230101T000000
END:STANDARD
END:VTIMEZONE
BEGIN:VEVENT
DTSTART;TZID=UTC:20241231T203000
DTEND;TZID=UTC:20241231T235900
DTSTAMP:20260426T040844
CREATED:20250104T060645Z
LAST-MODIFIED:20250104T060827Z
UID:2227-1735677000-1735689540@thekingstonhouse.ca
SUMMARY:New Years Eve Jam Night
DESCRIPTION:New Years campfire style jam and sing-along!
URL:https://thekingstonhouse.ca/event/new-years-jam-night/
CATEGORIES:Music
ATTACH;FMTTYPE=image/jpeg:https://thekingstonhouse.ca/wp-content/uploads/2025/01/New_year_2025_jam.jpg
END:VEVENT
END:VCALENDAR