BEGIN:VCALENDAR
VERSION:2.0
PRODID:-//The Kingston House - ECPv6.15.20//NONSGML v1.0//EN
CALSCALE:GREGORIAN
METHOD:PUBLISH
X-WR-CALNAME:The Kingston House
X-ORIGINAL-URL:https://thekingstonhouse.ca
X-WR-CALDESC:Events for The Kingston House
REFRESH-INTERVAL;VALUE=DURATION:PT1H
X-Robots-Tag:noindex
X-PUBLISHED-TTL:PT1H
BEGIN:VTIMEZONE
TZID:UTC
BEGIN:STANDARD
TZOFFSETFROM:+0000
TZOFFSETTO:+0000
TZNAME:UTC
DTSTART:20240101T000000
END:STANDARD
END:VTIMEZONE
BEGIN:VEVENT
DTSTART;TZID=UTC:20250415T190000
DTEND;TZID=UTC:20250415T220000
DTSTAMP:20260425T214351
CREATED:20250405T002909Z
LAST-MODIFIED:20250408T181233Z
UID:2362-1744743600-1744754400@thekingstonhouse.ca
SUMMARY:Arlene Paculan\, pianist and singer/songwriter
DESCRIPTION:Arlene Paculan piano-playing singer-songwriter sings classics\, songs you forgot about and original tunes\, very easy listening.
URL:https://thekingstonhouse.ca/event/arlene-paculan-pianist-and-singer-songwriter/
CATEGORIES:Music
ATTACH;FMTTYPE=image/jpeg:https://thekingstonhouse.ca/wp-content/uploads/2025/04/ArlenePaculanSmallFile.jpg
END:VEVENT
BEGIN:VEVENT
DTSTART;TZID=UTC:20250422T190000
DTEND;TZID=UTC:20250422T220000
DTSTAMP:20260425T214351
CREATED:20250419T045453Z
LAST-MODIFIED:20250419T045453Z
UID:2368-1745348400-1745359200@thekingstonhouse.ca
SUMMARY:Monet and Christian
DESCRIPTION:Monet and Christian\, folk duo on land and sea.
URL:https://thekingstonhouse.ca/event/monet-and-christian/
CATEGORIES:Music
ATTACH;FMTTYPE=image/jpeg:https://thekingstonhouse.ca/wp-content/uploads/2025/04/MonetChristian_post.jpg
END:VEVENT
BEGIN:VEVENT
DTSTART;TZID=UTC:20250429T190000
DTEND;TZID=UTC:20250429T220000
DTSTAMP:20260425T214351
CREATED:20250319T154114Z
LAST-MODIFIED:20250319T154114Z
UID:2336-1745953200-1745964000@thekingstonhouse.ca
SUMMARY:Douglas John Cameron - guitarist\, singer/songwriter
DESCRIPTION:Guitarist\, singer/songwriter and multi-instrumentalist Douglas John Cameron performing Country and Roots\, Blues and R & B. He is a two time Juno nominee and has been performing in Canada for five decades with many TV and recording credits as a composer and performer. Some of those credits include Doc (Showtime/Pax TV)\, Designer Guys\, Holmes on Homes (HG TV)\, Heart of a Poet (Bravo/Book TV)\, The National\, CBC Sunday(CBC/Newsworld)\, Dear America (HBO)\, Ants In Your Pants\, Big and Small\, (Treehouse TV)\, Nanalan\, What’s Your News (CBC). \nDouglas is now a member of Whiskey Jack and In partnership with Duncan Fremlin\, performs in Whiskey Jack Presents Stories & Songs of Stompin’ Tom. He recorded and produced the new Whiskey Jack album Whiskey Jack 10 – Do It Again! Douglas also plays drums in Three Chord Johnny\, Toronto’s most literary R and B collective.
URL:https://thekingstonhouse.ca/event/douglas-john-cameron-guitarist-singer-songwriter-3/
CATEGORIES:Music
ATTACH;FMTTYPE=image/jpeg:https://thekingstonhouse.ca/wp-content/uploads/2025/01/DJCHead1_sml.jpg
END:VEVENT
END:VCALENDAR