BEGIN:VCALENDAR
VERSION:2.0
PRODID:-//The Kingston House - ECPv6.15.20//NONSGML v1.0//EN
CALSCALE:GREGORIAN
METHOD:PUBLISH
X-ORIGINAL-URL:https://thekingstonhouse.ca
X-WR-CALDESC:Events for The Kingston House
REFRESH-INTERVAL;VALUE=DURATION:PT1H
X-Robots-Tag:noindex
X-PUBLISHED-TTL:PT1H
BEGIN:VTIMEZONE
TZID:UTC
BEGIN:STANDARD
TZOFFSETFROM:+0000
TZOFFSETTO:+0000
TZNAME:UTC
DTSTART:20230101T000000
END:STANDARD
END:VTIMEZONE
BEGIN:VEVENT
DTSTART;TZID=UTC:20250417T193000
DTEND;TZID=UTC:20250417T220000
DTSTAMP:20260425T111619
CREATED:20250329T000450Z
LAST-MODIFIED:20250329T211413Z
UID:2342-1744918200-1744927200@thekingstonhouse.ca
SUMMARY:Thursday Jazz - Harley Card trio
DESCRIPTION:Guitarist Harley Card with Rebecca Hennessy on trumpet and Bret Higgens on bass
URL:https://thekingstonhouse.ca/event/harley-card-trio/
CATEGORIES:Jazz
ATTACH;FMTTYPE=image/jpeg:https://thekingstonhouse.ca/wp-content/uploads/2025/03/KH_Harley_Card_trio.jpg
END:VEVENT
BEGIN:VEVENT
DTSTART;TZID=UTC:20250403T193000
DTEND;TZID=UTC:20250403T220000
DTSTAMP:20260425T111619
CREATED:20250329T000222Z
LAST-MODIFIED:20250329T204333Z
UID:2339-1743708600-1743717600@thekingstonhouse.ca
SUMMARY:Thursday Jazz - Samantha Clayton
DESCRIPTION:Samantha Clayton – songs from Mitchell to Monk. With Steven Cole on guitar and Peter Telford on bass.
URL:https://thekingstonhouse.ca/event/samantha-clayton-trio/
CATEGORIES:Jazz
ATTACH;FMTTYPE=image/jpeg:https://thekingstonhouse.ca/wp-content/uploads/2024/10/KH_trio_sam_event.jpg
END:VEVENT
BEGIN:VEVENT
DTSTART;TZID=UTC:20250327T193000
DTEND;TZID=UTC:20250327T220000
DTSTAMP:20260425T111619
CREATED:20250306T023602Z
LAST-MODIFIED:20250329T205012Z
UID:2322-1743103800-1743112800@thekingstonhouse.ca
SUMMARY:Thursday Jazz - Steven Cole trio
DESCRIPTION:Steven Cole trio with Peter Telford on bass and Ben Ball on drums playing music by great jazz artists\, bop\, post bop\, groove\, and originals.
URL:https://thekingstonhouse.ca/event/carin-redman-trio/
CATEGORIES:Jazz
ATTACH;FMTTYPE=image/jpeg:https://thekingstonhouse.ca/wp-content/uploads/2025/03/KH_scole_trio_post.jpg
END:VEVENT
BEGIN:VEVENT
DTSTART;TZID=UTC:20250320T193000
DTEND;TZID=UTC:20250320T220000
DTSTAMP:20260425T111619
CREATED:20250306T023304Z
LAST-MODIFIED:20250329T204501Z
UID:2318-1742499000-1742508000@thekingstonhouse.ca
SUMMARY:Thursday Jazz - Larisa Renee
DESCRIPTION:Larisa Renee singing songs of passion\, love\, loss and jealousy!\nWith Steven Cole on guitar and Peter Telford bass.
URL:https://thekingstonhouse.ca/event/larisa-renee-trio/
CATEGORIES:Jazz
ATTACH;FMTTYPE=image/jpeg:https://thekingstonhouse.ca/wp-content/uploads/2025/03/Trio_banner_larisa_social.jpg
END:VEVENT
BEGIN:VEVENT
DTSTART;TZID=UTC:20250313T193000
DTEND;TZID=UTC:20250313T220000
DTSTAMP:20260425T111619
CREATED:20250203T194531Z
LAST-MODIFIED:20250310T054120Z
UID:2286-1741894200-1741903200@thekingstonhouse.ca
SUMMARY:Jazz Thursday - Julie Michels
DESCRIPTION:Julie Michels – jazz favorites and vocal surprises! With guitarist Kevin Barrett
URL:https://thekingstonhouse.ca/event/jazz-thursday-julie-michels-3/
CATEGORIES:Jazz
ATTACH;FMTTYPE=image/jpeg:https://thekingstonhouse.ca/wp-content/uploads/2025/02/Julie_duo.jpg
END:VEVENT
BEGIN:VEVENT
DTSTART;TZID=UTC:20250306T193000
DTEND;TZID=UTC:20250306T220000
DTSTAMP:20260425T111619
CREATED:20250218T151548Z
LAST-MODIFIED:20250329T204354Z
UID:2313-1741289400-1741298400@thekingstonhouse.ca
SUMMARY:Thursday Jazz - Steven Cole trio with Brodie West
DESCRIPTION:Brodie West will be joining us on alto sax\, playing a selection of jazz standards\, bop\, and other compositions by great jazz artists. Steven Cole on guitar with Peter Telford on bass.
URL:https://thekingstonhouse.ca/event/steven-cole-trio-with-brodie-west/
CATEGORIES:Jazz
ATTACH;FMTTYPE=image/jpeg:https://thekingstonhouse.ca/wp-content/uploads/2024/12/KH_trio_400.jpg
END:VEVENT
BEGIN:VEVENT
DTSTART;TZID=UTC:20250227T193000
DTEND;TZID=UTC:20250227T220000
DTSTAMP:20260425T111619
CREATED:20250203T193534Z
LAST-MODIFIED:20250329T204407Z
UID:2284-1740684600-1740693600@thekingstonhouse.ca
SUMMARY:Thursday Jazz - Steven Cole group with Pat LaBarbera
DESCRIPTION:Steven Cole group featuring special guest Pat LaBarbera on tenor sax\, with Peter Telford on bass and Ben Ball on drums.  Playing compositions by Pat\, and other great jazz artists.
URL:https://thekingstonhouse.ca/event/jazz-thursday-steven-cole-trio-3/
CATEGORIES:Jazz
ATTACH;FMTTYPE=image/jpeg:https://thekingstonhouse.ca/wp-content/uploads/2025/02/SC_group_pat_post.jpg
END:VEVENT
BEGIN:VEVENT
DTSTART;TZID=UTC:20250220T193000
DTEND;TZID=UTC:20250220T220000
DTSTAMP:20260425T111619
CREATED:20250104T061800Z
LAST-MODIFIED:20250104T061800Z
UID:2232-1740079800-1740088800@thekingstonhouse.ca
SUMMARY:Jazz Thursday - Samantha Clayton trio
DESCRIPTION:Singer Samantha Clayton trio with Steven Cole on guitar and Peter Telford on bass
URL:https://thekingstonhouse.ca/event/jazz-thursday-samantha-clayton-trio/
CATEGORIES:Jazz
ATTACH;FMTTYPE=image/jpeg:https://thekingstonhouse.ca/wp-content/uploads/2024/10/KH_trio_sam_event.jpg
END:VEVENT
BEGIN:VEVENT
DTSTART;TZID=UTC:20250213T193000
DTEND;TZID=UTC:20250213T220000
DTSTAMP:20260425T111619
CREATED:20250120T071638Z
LAST-MODIFIED:20250120T071638Z
UID:2247-1739475000-1739484000@thekingstonhouse.ca
SUMMARY:Jazz Thursday - Doriann Forrester
DESCRIPTION:Come Out and Celebrate an early Valentines Day (and Doriann’s Birthday).\nThe Doriann Forrester Trio: Doriann Forrester-Voice\, Flute\, Bass Flute. Phil Disera-Guitar\, Ukulele. Pete Telford\, Bass\, will perform a variety of standards and not so standard tunes\, along with some special guest performances!
URL:https://thekingstonhouse.ca/event/jazz-thursday-doriann-forrester/
CATEGORIES:Jazz
ATTACH;FMTTYPE=image/jpeg:https://thekingstonhouse.ca/wp-content/uploads/2025/01/SoloFlutePic.jpg
END:VEVENT
BEGIN:VEVENT
DTSTART;TZID=UTC:20250206T193000
DTEND;TZID=UTC:20250206T220000
DTSTAMP:20260425T111619
CREATED:20250104T061255Z
LAST-MODIFIED:20250203T192729Z
UID:2230-1738870200-1738879200@thekingstonhouse.ca
SUMMARY:Jazz Thursday - Julie Michels
DESCRIPTION:Julie Michels trio with Steven Cole on guitar and Peter Telford on bass.\nJazz favorites and vocal surprises!
URL:https://thekingstonhouse.ca/event/thursday-jazz-julie-michels/
CATEGORIES:Jazz
ATTACH;FMTTYPE=image/jpeg:https://thekingstonhouse.ca/wp-content/uploads/2025/01/Julie_Michels_trio.jpg
END:VEVENT
BEGIN:VEVENT
DTSTART;TZID=UTC:20250130T193000
DTEND;TZID=UTC:20250130T220000
DTSTAMP:20260425T111619
CREATED:20241205T022506Z
LAST-MODIFIED:20250121T191442Z
UID:2178-1738265400-1738274400@thekingstonhouse.ca
SUMMARY:Jazz Thursday - Steven Cole trio
DESCRIPTION:Guitarist Steven Cole and bassist Peter Telford with special guest Jake Wilkinson on trumpet. Warm music on a cold night.
URL:https://thekingstonhouse.ca/event/jazz-thursday-steven-cole-trio-2/
CATEGORIES:Jazz
ATTACH;FMTTYPE=image/jpeg:https://thekingstonhouse.ca/wp-content/uploads/2024/12/Trio_banner_mailer.jpg
END:VEVENT
BEGIN:VEVENT
DTSTART;TZID=UTC:20250116T190000
DTEND;TZID=UTC:20250116T213000
DTSTAMP:20260425T111619
CREATED:20241205T020803Z
LAST-MODIFIED:20250104T062207Z
UID:2175-1737054000-1737063000@thekingstonhouse.ca
SUMMARY:Jazz Thursday - Andrew Scott trio
DESCRIPTION:Guitarist Andrew Scott with Jim Clayton on piano and Peter Telford on bass
URL:https://thekingstonhouse.ca/event/jazz-thursday-andrew-scott-trio/
CATEGORIES:Jazz
ATTACH;FMTTYPE=image/jpeg:https://thekingstonhouse.ca/wp-content/uploads/2024/12/andrew_scott.jpg
END:VEVENT
BEGIN:VEVENT
DTSTART;TZID=UTC:20250109T193000
DTEND;TZID=UTC:20250109T220000
DTSTAMP:20260425T111619
CREATED:20241205T015417Z
LAST-MODIFIED:20250108T051918Z
UID:2173-1736451000-1736460000@thekingstonhouse.ca
SUMMARY:Jazz Thursday - Julie Michels
DESCRIPTION:Jazz singer Julie Michels with bassist George Koller
URL:https://thekingstonhouse.ca/event/jazz-thursday-julie-michels-2/
CATEGORIES:Jazz
ATTACH;FMTTYPE=image/jpeg:https://thekingstonhouse.ca/wp-content/uploads/2024/12/Julie_Wings.jpg
END:VEVENT
BEGIN:VEVENT
DTSTART;TZID=UTC:20241219T200000
DTEND;TZID=UTC:20241219T220000
DTSTAMP:20260425T111619
CREATED:20241107T222108Z
LAST-MODIFIED:20241216T185327Z
UID:2141-1734638400-1734645600@thekingstonhouse.ca
SUMMARY:Jazz Thursday - Steven Cole and Peter Telford duo
DESCRIPTION:Steven Cole on guitar with Peter Telford on bass\, in the Upstairs room.\n With special guest singer Larisa Renee.\n Reservations are suggested ~ PWYC
URL:https://thekingstonhouse.ca/event/jazz-thursday-steven-cole-and-peter-telford-duo/
CATEGORIES:Jazz
ATTACH;FMTTYPE=image/jpeg:https://thekingstonhouse.ca/wp-content/uploads/2024/11/Steven_Cole_Peter_Telford_mailer.jpg
END:VEVENT
BEGIN:VEVENT
DTSTART;TZID=UTC:20241212T190000
DTEND;TZID=UTC:20241212T213000
DTSTAMP:20260425T111619
CREATED:20241107T220114Z
LAST-MODIFIED:20241107T220159Z
UID:2138-1734030000-1734039000@thekingstonhouse.ca
SUMMARY:Jazz Thursday - Julie Michels
DESCRIPTION:Jazz singer Julie Michels with guitarist Kevin Barrett
URL:https://thekingstonhouse.ca/event/julie-michels/
CATEGORIES:Jazz
END:VEVENT
BEGIN:VEVENT
DTSTART;TZID=UTC:20241205T190000
DTEND;TZID=UTC:20241205T213000
DTSTAMP:20260425T111619
CREATED:20241123T210813Z
LAST-MODIFIED:20241130T175329Z
UID:2162-1733425200-1733434200@thekingstonhouse.ca
SUMMARY:Jazz Thursday - Tanya Wills
DESCRIPTION:The Tanya Wills trio\, with Bill Bridges on guitar and Ron Johnston on bass.\nSinger/songwriter Tanya Wills is as comfortable on stage in a musical as she is in a club with her Quartet\, and has sung everything from swing to blues/folk and jazz. Known not only for her dynamic performance\, but also as a great vocal technician\, Tanya brings a sensual and evocative sound to her musical interpretations. She has performed in a great number of Toronto’s most popular Jazz venues such as Hugh’s Room\, Jazz Bistro and Hirut\, and is one of the featured vocalists for The Wintergarten Orchestra\, a Toronto based\, 11 piece Vintage Jazz Ensemble – a sensational band for her to flex her Cabaret muscles\, and to add her German and French repertoire. With her Trio\, Tanya brings her unique sound to the stage with two of her favourite gentlemen – master musicians\, Bill Bridges and Ron Johnston.
URL:https://thekingstonhouse.ca/event/jazz-thursday-tanya-wills/
CATEGORIES:Jazz
ATTACH;FMTTYPE=image/jpeg:https://thekingstonhouse.ca/wp-content/uploads/2024/11/Tanya_wills_800.jpg
END:VEVENT
BEGIN:VEVENT
DTSTART;TZID=UTC:20241128T190000
DTEND;TZID=UTC:20241128T213000
DTSTAMP:20260425T111619
CREATED:20241027T045432Z
LAST-MODIFIED:20241117T163405Z
UID:2100-1732820400-1732829400@thekingstonhouse.ca
SUMMARY:Jazz Thursday - Brendan Davis Trio
DESCRIPTION:Bassist Brendan Davis with his trio featuring Alvin Cornista on tenor sax and Carissa Neufeld on keyboard.
URL:https://thekingstonhouse.ca/event/jazz-thursday-brendan-davis-trio/
CATEGORIES:Jazz
ATTACH;FMTTYPE=image/jpeg:https://thekingstonhouse.ca/wp-content/uploads/2024/10/brendan_davis.jpg
END:VEVENT
BEGIN:VEVENT
DTSTART;TZID=UTC:20241121T190000
DTEND;TZID=UTC:20241121T213000
DTSTAMP:20260425T111619
CREATED:20241027T044555Z
LAST-MODIFIED:20241117T172123Z
UID:2098-1732215600-1732224600@thekingstonhouse.ca
SUMMARY:Jazz Thursday - Samantha Clayton
DESCRIPTION:Singer Samantha Clayton – from Mitchell to Monk.\nWith Steven Cole on guitar and Peter Telford on bass.
URL:https://thekingstonhouse.ca/event/jazz-thursday-samantha-clayton/
CATEGORIES:Jazz
ATTACH;FMTTYPE=image/jpeg:https://thekingstonhouse.ca/wp-content/uploads/2024/10/KH_trio_sam_event.jpg
END:VEVENT
BEGIN:VEVENT
DTSTART;TZID=UTC:20241117T133000
DTEND;TZID=UTC:20241117T163000
DTSTAMP:20260425T111619
CREATED:20241106T222651Z
LAST-MODIFIED:20241107T041050Z
UID:2133-1731850200-1731861000@thekingstonhouse.ca
SUMMARY:Girl's Night Out vocal jazz jam
DESCRIPTION:Come join us at Toronto’s longest running vocal jam\, Lisa Particelli’s GNO Vocalist-Friendly Jazz Jam!\nHosting on behalf of Lisa will be Ilana Waldston and Sam Broverman\, with Peter Hill on keys and Jordan O’Connor on bass.\nSing a tune with our terrific band if you like! Either bring a couple of lead sheets\, or choose a jazz standard and the band will help you find your key. Singers at all levels are welcome. You’ll be cheered on by our wonderful and supportive GNO regulars.\nDon’t sing? Come and enjoy an exciting variety of singers in a fun\, convivial atmosphere; it’s always a great hang.\nPWYC $10 to $20 suggested\, cash preferred.
URL:https://thekingstonhouse.ca/event/girls-night-out-vocal-jam/
CATEGORIES:Jazz
ATTACH;FMTTYPE=image/jpeg:https://thekingstonhouse.ca/wp-content/uploads/2024/11/NOV_17_24_Kingston-House-e1730952606697.jpg
END:VEVENT
BEGIN:VEVENT
DTSTART;TZID=UTC:20241114T190000
DTEND;TZID=UTC:20241114T213000
DTSTAMP:20260425T111619
CREATED:20241027T044158Z
LAST-MODIFIED:20241027T050830Z
UID:2096-1731610800-1731619800@thekingstonhouse.ca
SUMMARY:Jazz Thursday - Julie Michels
DESCRIPTION:Singer Julie Michels with guitarist Kevin Barrett
URL:https://thekingstonhouse.ca/event/jazz-thursday-julie-michaels/
CATEGORIES:Jazz
END:VEVENT
BEGIN:VEVENT
DTSTART;TZID=UTC:20241107T190000
DTEND;TZID=UTC:20241107T213000
DTSTAMP:20260425T111619
CREATED:20241027T043345Z
LAST-MODIFIED:20241027T043441Z
UID:2093-1731006000-1731015000@thekingstonhouse.ca
SUMMARY:Jazz Thursday - Ilana Waldston
DESCRIPTION:Ilana Waldston Jazz’n’Laughs\nToronto-based jazz songstress\, Ilana Waldston delights audiences with her swinging jazz standards\, witty patter and off-beat comedic cabaret numbers.
URL:https://thekingstonhouse.ca/event/jazz-thursday-ilana-waldston/
CATEGORIES:Jazz
ATTACH;FMTTYPE=image/jpeg:https://thekingstonhouse.ca/wp-content/uploads/2024/10/Ilana_waldston.jpg
END:VEVENT
BEGIN:VEVENT
DTSTART;TZID=UTC:20241031T190000
DTEND;TZID=UTC:20241031T213000
DTSTAMP:20260425T111619
CREATED:20241027T042026Z
LAST-MODIFIED:20241027T042026Z
UID:2089-1730401200-1730410200@thekingstonhouse.ca
SUMMARY:Jazz Thursday - The Little Band
DESCRIPTION:The Little Band is an eclectic\, bluesy jazz quintet playing a wide range of the greats – from Ella to Norah\, from Joss to Etta.\nFeaturing: Telma Pinguelo (vocals)\, Martin Loomer (guitar)\, Peter Evans (drums)\, Ross Eddie (bass)\, Mike Patton (harmonica).
URL:https://thekingstonhouse.ca/event/jazz-thursday-the-little-band/
LOCATION:The Kingston House\, 676 Kingston Rd\, Toronto\, ON\, Canada
CATEGORIES:Jazz
ATTACH;FMTTYPE=application/pdf:https://thekingstonhouse.ca/wp-content/uploads/2024/10/LB_poster_10-31-24.pdf
END:VEVENT
BEGIN:VEVENT
DTSTART;TZID=UTC:20241024T190000
DTEND;TZID=UTC:20241024T213000
DTSTAMP:20260425T111619
CREATED:20241027T050750Z
LAST-MODIFIED:20241027T050750Z
UID:2108-1729796400-1729805400@thekingstonhouse.ca
SUMMARY:Jazz Thursday - Julie Michels
DESCRIPTION:Singer Julie Michels and guitarist Kevin Barrett
URL:https://thekingstonhouse.ca/event/jazz-thursday-julie-michels/
CATEGORIES:Jazz
END:VEVENT
BEGIN:VEVENT
DTSTART;TZID=UTC:20241017T190000
DTEND;TZID=UTC:20241017T213000
DTSTAMP:20260425T111619
CREATED:20241027T050533Z
LAST-MODIFIED:20241027T050533Z
UID:2106-1729191600-1729200600@thekingstonhouse.ca
SUMMARY:Jazz Thursday - Suzie and Doug
DESCRIPTION:Suzie and Doug play and sing the blues\, boogie\, jazz standards\, cabaret and show tunes.
URL:https://thekingstonhouse.ca/event/jazz-thursday-suzie-and-doug/
CATEGORIES:Jazz
END:VEVENT
BEGIN:VEVENT
DTSTART;TZID=UTC:20241010T190000
DTEND;TZID=UTC:20241010T213000
DTSTAMP:20260425T111619
CREATED:20241027T050113Z
LAST-MODIFIED:20241027T052907Z
UID:2104-1728586800-1728595800@thekingstonhouse.ca
SUMMARY:Jazz Thursday - Steven Cole Trio
DESCRIPTION:Steven Cole trio with Peter Telford on bass\, featuring Jake Wilkinson on trumpet playing bop ad jazz standards
URL:https://thekingstonhouse.ca/event/jazz-thursday-steven-cole-trio/
CATEGORIES:Jazz
ATTACH;FMTTYPE=image/jpeg:https://thekingstonhouse.ca/wp-content/uploads/2024/10/SC_trio_event.jpg
END:VEVENT
BEGIN:VEVENT
DTSTART;TZID=UTC:20241003T190000
DTEND;TZID=UTC:20241003T213000
DTSTAMP:20260425T111619
CREATED:20241027T045728Z
LAST-MODIFIED:20241027T045728Z
UID:2102-1727982000-1727991000@thekingstonhouse.ca
SUMMARY:Jazz Thursday - Laura Marks
DESCRIPTION:Singer Laura Marks trio
URL:https://thekingstonhouse.ca/event/jazz-thursday-laura-marks/
CATEGORIES:Jazz
END:VEVENT
END:VCALENDAR