BEGIN:VCALENDAR
VERSION:2.0
PRODID:-//The Kingston House - ECPv6.15.20//NONSGML v1.0//EN
CALSCALE:GREGORIAN
METHOD:PUBLISH
X-WR-CALNAME:The Kingston House
X-ORIGINAL-URL:https://thekingstonhouse.ca
X-WR-CALDESC:Events for The Kingston House
REFRESH-INTERVAL;VALUE=DURATION:PT1H
X-Robots-Tag:noindex
X-PUBLISHED-TTL:PT1H
BEGIN:VTIMEZONE
TZID:UTC
BEGIN:STANDARD
TZOFFSETFROM:+0000
TZOFFSETTO:+0000
TZNAME:UTC
DTSTART:20250101T000000
END:STANDARD
END:VTIMEZONE
BEGIN:VEVENT
DTSTART;TZID=UTC:20260430T193000
DTEND;TZID=UTC:20260430T220000
DTSTAMP:20260425T142244
CREATED:20260414T154232Z
LAST-MODIFIED:20260414T154232Z
UID:2779-1777577400-1777586400@thekingstonhouse.ca
SUMMARY:Thursday jazz - Steven Cole group (Four.30) birthday bash
DESCRIPTION:Four.30 birthday bash! Featuring Steven Cole guitar\, Peter Telford bass\, Ben Ball drums\, Chris Brown on organ\, and singers. Downstairs event room\, PWYC
URL:https://thekingstonhouse.ca/event/thursday-jazz-steven-cole-group-four-30-birthday-bash/
CATEGORIES:Jazz
ATTACH;FMTTYPE=image/jpeg:https://thekingstonhouse.ca/wp-content/uploads/2024/11/Steven_Cole_Peter_Telford_mailer.jpg
END:VEVENT
END:VCALENDAR