BEGIN:VCALENDAR
VERSION:2.0
PRODID:-//The Kingston House - ECPv6.15.20//NONSGML v1.0//EN
CALSCALE:GREGORIAN
METHOD:PUBLISH
X-ORIGINAL-URL:https://thekingstonhouse.ca
X-WR-CALDESC:Events for The Kingston House
REFRESH-INTERVAL;VALUE=DURATION:PT1H
X-Robots-Tag:noindex
X-PUBLISHED-TTL:PT1H
BEGIN:VTIMEZONE
TZID:UTC
BEGIN:STANDARD
TZOFFSETFROM:+0000
TZOFFSETTO:+0000
TZNAME:UTC
DTSTART:20240101T000000
END:STANDARD
END:VTIMEZONE
BEGIN:VEVENT
DTSTART;TZID=UTC:20251204T193000
DTEND;TZID=UTC:20251204T220000
DTSTAMP:20260425T112338
CREATED:20251112T174813Z
LAST-MODIFIED:20251112T174813Z
UID:2608-1764876600-1764885600@thekingstonhouse.ca
SUMMARY:Thursday jazz - Julie Michels
DESCRIPTION:Vocalist Julie Michels with guitarist Kevin Barrett. Jazz favorites and vocal surprises! Downstairs Event room.
URL:https://thekingstonhouse.ca/event/thursday-jazz-julie-michels-8/
CATEGORIES:Jazz
ATTACH;FMTTYPE=image/jpeg:https://thekingstonhouse.ca/wp-content/uploads/2024/12/Julie_Wings.jpg
END:VEVENT
END:VCALENDAR