BEGIN:VCALENDAR
VERSION:2.0
PRODID:-//The Kingston House - ECPv6.15.20//NONSGML v1.0//EN
CALSCALE:GREGORIAN
METHOD:PUBLISH
X-WR-CALNAME:The Kingston House
X-ORIGINAL-URL:https://thekingstonhouse.ca
X-WR-CALDESC:Events for The Kingston House
REFRESH-INTERVAL;VALUE=DURATION:PT1H
X-Robots-Tag:noindex
X-PUBLISHED-TTL:PT1H
BEGIN:VTIMEZONE
TZID:UTC
BEGIN:STANDARD
TZOFFSETFROM:+0000
TZOFFSETTO:+0000
TZNAME:UTC
DTSTART:20240101T000000
END:STANDARD
END:VTIMEZONE
BEGIN:VEVENT
DTSTART;TZID=UTC:20251106T193000
DTEND;TZID=UTC:20251106T220000
DTSTAMP:20260425T125101
CREATED:20251014T172628Z
LAST-MODIFIED:20251014T172628Z
UID:2544-1762457400-1762466400@thekingstonhouse.ca
SUMMARY:Thursday Jazz - Jack Ridout
DESCRIPTION:Vocalist Jack Ridout’s deep resonant tones and Lenny Graf’s lilting flute\, clarinet & sax will be backed by the solid rhythm of Peter Hill on keys & Ron Johnston on bass. And a few surprise musical guests will add to the mix!\nDownstairs event room
URL:https://thekingstonhouse.ca/event/thursday-jazz-jack-ridout/
CATEGORIES:Jazz
ATTACH;FMTTYPE=image/jpeg:https://thekingstonhouse.ca/wp-content/uploads/2025/10/Jack_Ridout_Quartet.jpg
END:VEVENT
END:VCALENDAR