BEGIN:VCALENDAR
VERSION:2.0
PRODID:-//The Kingston House - ECPv6.15.20//NONSGML v1.0//EN
CALSCALE:GREGORIAN
METHOD:PUBLISH
X-ORIGINAL-URL:https://thekingstonhouse.ca
X-WR-CALDESC:Events for The Kingston House
REFRESH-INTERVAL;VALUE=DURATION:PT1H
X-Robots-Tag:noindex
X-PUBLISHED-TTL:PT1H
BEGIN:VTIMEZONE
TZID:UTC
BEGIN:STANDARD
TZOFFSETFROM:+0000
TZOFFSETTO:+0000
TZNAME:UTC
DTSTART:20240101T000000
END:STANDARD
END:VTIMEZONE
BEGIN:VEVENT
DTSTART;TZID=UTC:20251023T193000
DTEND;TZID=UTC:20251023T220000
DTSTAMP:20260425T142657
CREATED:20250930T182839Z
LAST-MODIFIED:20250930T182839Z
UID:2519-1761247800-1761256800@thekingstonhouse.ca
SUMMARY:Thursday jazz - Steven Cole and Peter Telford
DESCRIPTION:Steven Cole on guitar with Peter Telford on bass play jazz standards and music by great jazz artists. Main dining room\, no cover.  Come for dinner and live music!
URL:https://thekingstonhouse.ca/event/thursday-jazz-steven-cole-and-peter-telford-2/
CATEGORIES:Jazz
ATTACH;FMTTYPE=image/jpeg:https://thekingstonhouse.ca/wp-content/uploads/2024/11/Steven_Cole_Peter_Telford_mailer.jpg
END:VEVENT
END:VCALENDAR