BEGIN:VCALENDAR
VERSION:2.0
PRODID:-//The Kingston House - ECPv6.15.20//NONSGML v1.0//EN
CALSCALE:GREGORIAN
METHOD:PUBLISH
X-ORIGINAL-URL:https://thekingstonhouse.ca
X-WR-CALDESC:Events for The Kingston House
REFRESH-INTERVAL;VALUE=DURATION:PT1H
X-Robots-Tag:noindex
X-PUBLISHED-TTL:PT1H
BEGIN:VTIMEZONE
TZID:UTC
BEGIN:STANDARD
TZOFFSETFROM:+0000
TZOFFSETTO:+0000
TZNAME:UTC
DTSTART:20240101T000000
END:STANDARD
END:VTIMEZONE
BEGIN:VEVENT
DTSTART;TZID=UTC:20251016T193000
DTEND;TZID=UTC:20251016T220000
DTSTAMP:20260425T142657
CREATED:20250929T224937Z
LAST-MODIFIED:20251014T173320Z
UID:2508-1760643000-1760652000@thekingstonhouse.ca
SUMMARY:Thursday jazz - Ilana Waldston's Jazz 'n' Laughs
DESCRIPTION:Ilana Waldston and her Jazz’n’Laughs band bring you an evening of swinging jazz tunes\, romantic ballads\, sultry latin numbers and a good smattering of comedic material. Known for her warm vocals and quirky song choices\, Ilana has been entertaining at clubs all over Toronto for almost 20 years. She’s joined by Rob Thaller on keys\, and Gordon Mowat on bass.\nMain dining room. No cover\, but tips appreciated!
URL:https://thekingstonhouse.ca/event/thursday-jazz-ilana-waldstons-jazz-n-laughs/
CATEGORIES:Jazz
ATTACH;FMTTYPE=image/jpeg:https://thekingstonhouse.ca/wp-content/uploads/2025/09/KH_Ilana_Waldston_10-16-25.jpg
END:VEVENT
END:VCALENDAR