BEGIN:VCALENDAR
VERSION:2.0
PRODID:-//The Kingston House - ECPv6.15.20//NONSGML v1.0//EN
CALSCALE:GREGORIAN
METHOD:PUBLISH
X-WR-CALNAME:The Kingston House
X-ORIGINAL-URL:https://thekingstonhouse.ca
X-WR-CALDESC:Events for The Kingston House
REFRESH-INTERVAL;VALUE=DURATION:PT1H
X-Robots-Tag:noindex
X-PUBLISHED-TTL:PT1H
BEGIN:VTIMEZONE
TZID:UTC
BEGIN:STANDARD
TZOFFSETFROM:+0000
TZOFFSETTO:+0000
TZNAME:UTC
DTSTART:20240101T000000
END:STANDARD
END:VTIMEZONE
BEGIN:VEVENT
DTSTART;TZID=UTC:20251106T193000
DTEND;TZID=UTC:20251106T220000
DTSTAMP:20260425T111451
CREATED:20251014T172628Z
LAST-MODIFIED:20251014T172628Z
UID:2544-1762457400-1762466400@thekingstonhouse.ca
SUMMARY:Thursday Jazz - Jack Ridout
DESCRIPTION:Vocalist Jack Ridout’s deep resonant tones and Lenny Graf’s lilting flute\, clarinet & sax will be backed by the solid rhythm of Peter Hill on keys & Ron Johnston on bass. And a few surprise musical guests will add to the mix!\nDownstairs event room
URL:https://thekingstonhouse.ca/event/thursday-jazz-jack-ridout/
CATEGORIES:Jazz
ATTACH;FMTTYPE=image/jpeg:https://thekingstonhouse.ca/wp-content/uploads/2025/10/Jack_Ridout_Quartet.jpg
END:VEVENT
BEGIN:VEVENT
DTSTART;TZID=UTC:20251113T193000
DTEND;TZID=UTC:20251113T220000
DTSTAMP:20260425T111451
CREATED:20251104T185926Z
LAST-MODIFIED:20251110T040057Z
UID:2568-1763062200-1763071200@thekingstonhouse.ca
SUMMARY:Thursday Jazz - Andrew Scott trio
DESCRIPTION:Guitarist Andrew Scott plays jazz standards\, bebop\, and more with his trio\, featuring Jim Clayton on piano and Jack Zorwaski on bass. Upstairs dining room\, No cover
URL:https://thekingstonhouse.ca/event/thursday-jazz-andrew-scott-trio-3/
CATEGORIES:Jazz
ATTACH;FMTTYPE=image/jpeg:https://thekingstonhouse.ca/wp-content/uploads/2025/11/Andrew_Scott-2.jpg
END:VEVENT
BEGIN:VEVENT
DTSTART;TZID=UTC:20251123T130000
DTEND;TZID=UTC:20251123T160000
DTSTAMP:20260425T111451
CREATED:20251110T031044Z
LAST-MODIFIED:20251110T031044Z
UID:2590-1763902800-1763913600@thekingstonhouse.ca
SUMMARY:Girl’s Night Out vocal jazz jam
DESCRIPTION:Come join us at Toronto’s longest running vocal jam\, Lisa Particelli’s GNO Vocalist-Friendly Jazz Jam!\nHosting on behalf of Lisa will be Ilana Waldston and Sam Broverman\, with Peter Hill on keys and Jordan O’Connor on bass.\nSing a tune with our terrific band if you like! Either bring a couple of lead sheets\, or choose a jazz standard and the band will help you find your key. Singers at all levels are welcome. You’ll be cheered on by our wonderful and supportive GNO regulars.\nDon’t sing? Come and enjoy an exciting variety of singers in a fun\, convivial atmosphere; it’s always a great hang.\nPWYC $10 to $20 suggested\, cash preferred.
URL:https://thekingstonhouse.ca/event/girls-night-out-vocal-jazz-jam-9/
CATEGORIES:Jazz
ATTACH;FMTTYPE=image/jpeg:https://thekingstonhouse.ca/wp-content/uploads/2025/11/Sun-Nov-23rd-GNO-Jazz-Jam.jpg
END:VEVENT
BEGIN:VEVENT
DTSTART;TZID=UTC:20251127T193000
DTEND;TZID=UTC:20251127T220000
DTSTAMP:20260425T111451
CREATED:20251104T194128Z
LAST-MODIFIED:20251110T040437Z
UID:2573-1764271800-1764280800@thekingstonhouse.ca
SUMMARY:Thursday jazz - Alexander Zlotnik trio
DESCRIPTION:Pianist Alexander Zlotnik with Gordon Mowat on bass and Michael Skinner on drums.\nDownstairs event room.
URL:https://thekingstonhouse.ca/event/thursday-jazz-alexander-zlotnik-trio/
CATEGORIES:Jazz
ATTACH;FMTTYPE=image/jpeg:https://thekingstonhouse.ca/wp-content/uploads/2025/11/Alex_Zlotnik_trio.jpg
END:VEVENT
END:VCALENDAR